BEGIN:VCALENDAR
VERSION:2.0
PRODID:-//UNEQ - ECPv6.15.18//NONSGML v1.0//EN
CALSCALE:GREGORIAN
METHOD:PUBLISH
X-WR-CALNAME:UNEQ
X-ORIGINAL-URL:https://www.uneq.qc.ca
X-WR-CALDESC:Évènements pour UNEQ
REFRESH-INTERVAL;VALUE=DURATION:PT1H
X-Robots-Tag:noindex
X-PUBLISHED-TTL:PT1H
BEGIN:VTIMEZONE
TZID:America/Toronto
BEGIN:DAYLIGHT
TZOFFSETFROM:-0500
TZOFFSETTO:-0400
TZNAME:EDT
DTSTART:20160313T070000
END:DAYLIGHT
BEGIN:STANDARD
TZOFFSETFROM:-0400
TZOFFSETTO:-0500
TZNAME:EST
DTSTART:20161106T060000
END:STANDARD
BEGIN:DAYLIGHT
TZOFFSETFROM:-0500
TZOFFSETTO:-0400
TZNAME:EDT
DTSTART:20170312T070000
END:DAYLIGHT
BEGIN:STANDARD
TZOFFSETFROM:-0400
TZOFFSETTO:-0500
TZNAME:EST
DTSTART:20171105T060000
END:STANDARD
BEGIN:DAYLIGHT
TZOFFSETFROM:-0500
TZOFFSETTO:-0400
TZNAME:EDT
DTSTART:20180311T070000
END:DAYLIGHT
BEGIN:STANDARD
TZOFFSETFROM:-0400
TZOFFSETTO:-0500
TZNAME:EST
DTSTART:20181104T060000
END:STANDARD
END:VTIMEZONE
BEGIN:VEVENT
DTSTART;TZID=America/Toronto:20170922T090000
DTEND;TZID=America/Toronto:20171124T170000
DTSTAMP:20260419T232158
CREATED:20170906T150110Z
LAST-MODIFIED:20180716T185950Z
UID:7452-1506070800-1511542800@www.uneq.qc.ca
SUMMARY:Exposition : Encre noire
DESCRIPTION:En rendant hommage à Serge Legagneur\, l’exposition Encre noire rend compte de l’importance de tous ces écrivains montréalais qui\, comme lui\, et qu’ils soient nés en Haïti ou ayant grandi au Québec\, ont produit une œuvre exemplaire qui transcende les frontières et les barrières culturelles\, tout en contribuant à l’enrichissement de la langue française et à l’épanouissement de la culture québécoise.\n \nTout récemment décédait Serge Legagneur. Né le 10 janvier 1937 à Jérémie\, en Haïti\, il passe son enfance dans cette ville côtière\, dite « la Cité des Poètes »\, qui marquera sa poésie. Après ses études secondaires\, il participe activement à la vie culturelle. Avec ses amis écrivains Davertige\, Roland Morisseau\, Anthony Phelps\, René Philoctète\, il fonde le groupe Haïti Littéraire. Devant la menace et l’horreur de la dictature de Duvalier\, Serge Legagneur quitte Haïti et s’installe à Montréal en 1965. Il y retrouvera Émile Ollivier et Anthony Phelps\, arrivés l’année précédente. Après plusieurs décennies de production littéraire\, il déclare avec conviction en 1990 qu’il n’est plus poète et qu’il change de métier. Il affirme alors avoir déjà dit et écrit tout ce qu’il devait dire et écrire. \n• • • \nConception de l’exposition : Frantz Voltaire\nTextes : Thomas C. Spear\nConception graphique : Manuel Salgado \nL’exposition Encre noire bénéficie du soutien d’île en île\, du Conseil des Arts du Canada\, de Thomas C. Spear et du Festival international de la littérature (FIL). \nUne présentation du Centre International de Documentation et d’Information Haïtienne\, Caribéenne et Afro-canadienne (CIDIHCA)\, en collaboration avec l’Union des écrivaines et des écrivains québécois (UNEQ). \nVernissage : lundi 25 septembre à 17 h.
URL:https://www.uneq.qc.ca/evenement/exposition-encre-noire/
LOCATION:Maison des écrivains\, 3492\, avenue Laval\, Montréal\, Québec\, H2X 3C8 \, Canada
CATEGORIES:À la Maison des écrivains,Minigalerie
ATTACH;FMTTYPE=image/jpeg:https://www.uneq.qc.ca/wp-content/uploads/2017/09/Davertige_Legagneur_Phelps_et_Morisseau_chez_Anthony_1978.jpg
ORGANIZER;CN="Festival international de la litt%C3%A9rature (FIL)":MAILTO:info@festival-fil.qc.ca
END:VEVENT
BEGIN:VEVENT
DTSTART;TZID=America/Toronto:20171102T170000
DTEND;TZID=America/Toronto:20171102T190000
DTSTAMP:20260419T232158
CREATED:20171024T173022Z
LAST-MODIFIED:20180716T185346Z
UID:8168-1509642000-1509649200@www.uneq.qc.ca
SUMMARY:Lancement du livre Douze gerbes de mots sur la tombe d'Aphrodite\, de David Mezy
DESCRIPTION:Les éditions Nemours Communication et la compagnie Comédiens et Plus (COPS) vous convient chaleureusement au lancement du premier recueil de poésies de David Mezy\, Douze gerbes de mots sur la tombe d’Aphrodite.\nLe lancement aura lieu le jeudi 2 novembre 2017 dès 17 h 30\nà la Maison des écrivains (UNEQ)\n3492\, avenue Laval\, Montréal H2X 3C8. \nUn vin d’honneur  vous  sera  servi  au cour  de ce 5 à 7  et  l’auteur sera sur place pour présenter  et  signer  son  livre — qui  retrace  une  douleur  qui  le ronge  en  silence depuis  déjà  sept ans…
URL:https://www.uneq.qc.ca/evenement/lancement-livre-douze-gerbes-de-mots-tombe-daphrodite-de-david-mezy/
LOCATION:Maison des écrivains\, 3492\, avenue Laval\, Montréal\, Québec\, H2X 3C8 \, Canada
CATEGORIES:À la Maison des écrivains,Autres activités
ATTACH;FMTTYPE=image/jpeg:https://www.uneq.qc.ca/wp-content/uploads/2017/10/DM.jpg
END:VEVENT
BEGIN:VEVENT
DTSTART;TZID=America/Toronto:20171103T170000
DTEND;TZID=America/Toronto:20171103T190000
DTSTAMP:20260419T232158
CREATED:20171010T181621Z
LAST-MODIFIED:20180716T185338Z
UID:7909-1509728400-1509735600@www.uneq.qc.ca
SUMMARY:Lancement du livre Parler pour rien dire\, de Charles-Étienne Tremblay
DESCRIPTION:  \nVous êtes invités le 3 novembre au lancement du livre de Charles-Étienne Tremblay\, Parler pour rien dire\, suivi de West Mtl Striper. \nAfin que nous puissions mieux vous accueillir\, vous pouvez réserver à info@motsentoile.ca  \nBienvenue à tous !
URL:https://www.uneq.qc.ca/evenement/lancement-livre-parler-rien-dire-de-charles-etienne-tremblay/
LOCATION:Maison des écrivains\, 3492\, avenue Laval\, Montréal\, Québec\, H2X 3C8 \, Canada
CATEGORIES:À la Maison des écrivains,Autres activités
ORGANIZER;CN="Mots en toile":MAILTO:info@motsentoile.ca
END:VEVENT
BEGIN:VEVENT
DTSTART;TZID=America/Toronto:20171104T100000
DTEND;TZID=America/Toronto:20171104T160000
DTSTAMP:20260419T232158
CREATED:20171004T201425Z
LAST-MODIFIED:20180716T185318Z
UID:7851-1509789600-1509811200@www.uneq.qc.ca
SUMMARY:Autour du manuscrit\, formation offerte par Le pigeon décoiffé
DESCRIPTION:Animée par Nadia Gosselin\, alias Le pigeon décoiffé\, la formation se présente sous forme d’un exposé magistral avec possibilité d’intervention des participants.\nLa planification du roman. \nDécouvrez comment planifier efficacement : \n\nLa dynamique de l’action\nLa chronologie du récit\nLa caractérisation des personnages\n\nNous aborderons aussi d’autres considérations telles que le choix du narrateur\, le système verbal\, la structure du récit\, etc. \nLe peaufinage du manuscrit et sa présentation aux éditeurs : \nDécouvrez les aspects les plus importants à considérer en vue de l’édition de votre manuscrit : \n\nLa réécriture\, la révision et la correction\nLa mise en page standard du manuscrit\nLes types d’édition possibles\nLa présentation du manuscrit :\n\nLa lettre d’accompagnement\nLa notice biographique\nLe synopsis\n\n\n\nPour information et inscription : www.lepigeondecoiffe.com ou écrivez à info@lepigeondecoiffe.com.
URL:https://www.uneq.qc.ca/evenement/autour-manuscrit-formation-offerte-nadia-gosselin/
LOCATION:Maison des écrivains\, 3492\, avenue Laval\, Montréal\, Québec\, H2X 3C8 \, Canada
CATEGORIES:À la Maison des écrivains,Autres activités
ATTACH;FMTTYPE=image/jpeg:https://www.uneq.qc.ca/wp-content/uploads/2017/10/Nadia-Gosselin.jpg
ORGANIZER;CN="Le pigeon d%C3%A9coiff%C3%A9 (Nadia Gosselin%2C conseill%C3%A8re litt%C3%A9raire)":MAILTO:info@lepigeondecoiffe.com
END:VEVENT
BEGIN:VEVENT
DTSTART;TZID=America/Toronto:20171104T133000
DTEND;TZID=America/Toronto:20171104T163000
DTSTAMP:20260419T232158
CREATED:20170926T220312Z
LAST-MODIFIED:20180716T185305Z
UID:7770-1509802200-1509813000@www.uneq.qc.ca
SUMMARY:Atelier d'écriture spontanée : une mini-biographie originale
DESCRIPTION:Pour le plaisir d’écrire\, l’Atelier d’écriture spontanée est une activité pleine de défis et de surprises.\nIl permet de stimuler son imaginaire\, d’éviter la frustration de la page blanche et de partager les écrits dans un climat convivial. Trois ou quatre exercices d’écriture créative vous seront proposés. \nPour informations et inscription : Marie Dupuis\, (514) 341-0042 ou mariedupuis@yahoo.com.
URL:https://www.uneq.qc.ca/evenement/atelier-decriture-spontanee-mini-biographie-originale-offert-marie-dupuis/
LOCATION:Maison des écrivains\, 3492\, avenue Laval\, Montréal\, Québec\, H2X 3C8 \, Canada
CATEGORIES:À la Maison des écrivains,Autres activités
ATTACH;FMTTYPE=image/jpeg:https://www.uneq.qc.ca/wp-content/uploads/2016/08/Marie-Dupuis.jpg
ORGANIZER;CN="Marie Dupuis":MAILTO:mariedupuis@yahoo.com
END:VEVENT
BEGIN:VEVENT
DTSTART;TZID=America/Toronto:20171107T170000
DTEND;TZID=America/Toronto:20171107T190000
DTSTAMP:20260419T232158
CREATED:20171024T175113Z
LAST-MODIFIED:20180716T185253Z
UID:8179-1510074000-1510081200@www.uneq.qc.ca
SUMMARY:Lancement : Un herbier de Montréal
DESCRIPTION:
URL:https://www.uneq.qc.ca/evenement/lancement-de-herbier-de-montreal/
LOCATION:Maison des écrivains\, 3492\, avenue Laval\, Montréal\, Québec\, H2X 3C8 \, Canada
CATEGORIES:À la Maison des écrivains,Autres activités
ATTACH;FMTTYPE=image/jpeg:https://www.uneq.qc.ca/wp-content/uploads/2017/10/Herbier.jpg
END:VEVENT
BEGIN:VEVENT
DTSTART;TZID=America/Toronto:20171108T190000
DTEND;TZID=America/Toronto:20171108T210000
DTSTAMP:20260419T232158
CREATED:20171005T192215Z
LAST-MODIFIED:20180716T185241Z
UID:7862-1510167600-1510174800@www.uneq.qc.ca
SUMMARY:Remise des prix de l'Académie des lettres du Québec
DESCRIPTION:L’Académie des lettres du Québec vous invite à la remise de ses prix annuels :\nPrix Alain-Grandbois (poésie) \nPrix Marcel-Dubé (théâtre) \nPrix Ringuet (roman) \nPrix Victor-Barbeau (essai) \nUn vin d’honneur suivra la cérémonie. \nMerci de confirmer votre présence par courriel à secretariat@academiedeslettresduquebec.ca ou par téléphone au 514 873-4496.
URL:https://www.uneq.qc.ca/evenement/remise-prix-de-lacademie-lettres-quebec/
LOCATION:Maison des écrivains\, 3492\, avenue Laval\, Montréal\, Québec\, H2X 3C8 \, Canada
CATEGORIES:À la Maison des écrivains,Autres activités
ATTACH;FMTTYPE=image/jpeg:https://www.uneq.qc.ca/wp-content/uploads/2017/09/Academie.jpg
ORGANIZER;CN="Acad%C3%A9mie des lettres du Qu%C3%A9bec":MAILTO:secretariat@academiedeslettresduquebec.ca
END:VEVENT
BEGIN:VEVENT
DTSTART;TZID=America/Toronto:20171109T170000
DTEND;TZID=America/Toronto:20171109T200000
DTSTAMP:20260419T232158
CREATED:20171101T202022Z
LAST-MODIFIED:20180716T185225Z
UID:8324-1510246800-1510257600@www.uneq.qc.ca
SUMMARY:Lancement automnal des Écrits des Forges
DESCRIPTION:
URL:https://www.uneq.qc.ca/evenement/lancement-automnal-ecrits-forges-2/
LOCATION:Maison des écrivains\, 3492\, avenue Laval\, Montréal\, Québec\, H2X 3C8 \, Canada
CATEGORIES:À la Maison des écrivains,Autres activités
ATTACH;FMTTYPE=image/jpeg:https://www.uneq.qc.ca/wp-content/uploads/2017/11/Forges.jpg
ORGANIZER;CN="Les %C3%89crits des Forges":MAILTO:ecritsdesforges@gmail.com
END:VEVENT
BEGIN:VEVENT
DTSTART;TZID=America/Toronto:20171110T090000
DTEND;TZID=America/Toronto:20171110T190000
DTSTAMP:20260419T232158
CREATED:20171018T195839Z
LAST-MODIFIED:20180716T185211Z
UID:8079-1510304400-1510340400@www.uneq.qc.ca
SUMMARY:Colloque — Prendre le taureau par la forme
DESCRIPTION:Organisé par Dominique Raymond\, stagiaire postdoctorale au CRILCQ – Université de Montréal\, ce colloque s’intéresse aux différentes manières dont la littérature québécoise a pris le taureau par la forme depuis les années 1970 : expérimentations langagières\, hybridité générique\, nouvelles structures induites par le numérique\, travail à contraintes… L’occasion sera donnée aux chercheurs généralistes et spécialistes en tout genre (poésie\, théâtre\, roman\, essai) de prendre pour objet d’étude la contrainte littéraire afin de cerner sa place et ses résonances dans l’histoire littéraire québécoise. \nPour consulter le programme du colloque\, cliquez ici.
URL:https://www.uneq.qc.ca/evenement/colloque-prendre-taureau-forme/
LOCATION:Maison des écrivains\, 3492\, avenue Laval\, Montréal\, Québec\, H2X 3C8 \, Canada
CATEGORIES:À la Maison des écrivains,Autres activités
ATTACH;FMTTYPE=image/jpeg:https://www.uneq.qc.ca/wp-content/uploads/2017/10/AFFICHE11X17-F-1-copier-1-e1508356695816.jpg
END:VEVENT
BEGIN:VEVENT
DTSTART;TZID=America/Toronto:20171114T170000
DTEND;TZID=America/Toronto:20171114T190000
DTSTAMP:20260419T232158
CREATED:20171101T200957Z
LAST-MODIFIED:20180716T185138Z
UID:8319-1510678800-1510686000@www.uneq.qc.ca
SUMMARY:Lancement du livre Le RANDOM — De l’asile au bout du monde\, de Yanick Daoust
DESCRIPTION:Venez célébrez la mise au monde du premier récit d’aventures de Yanick Daoust\, Le RANDOM — De l’asile au bout du monde.\nLe 14 novembre\, de 17 h à 19 h\, à la Maison des écrivains (3492\, avenue Laval\, Montréal\, H2X 3C8). \nAu menu : un bar à alcool et une rencontre avec l’auteur ! \nBienvenue à tous dans cette formule 5 à 7 où vous arrivez et quittez de manière aléatoire : RANDOM.
URL:https://www.uneq.qc.ca/evenement/lancement-livre-random-de-lasile-bout-monde-de-yanick-daoust/
LOCATION:Maison des écrivains\, 3492\, avenue Laval\, Montréal\, Québec\, H2X 3C8 \, Canada
CATEGORIES:À la Maison des écrivains,Autres activités
ATTACH;FMTTYPE=image/jpeg:https://www.uneq.qc.ca/wp-content/uploads/2017/11/Couv_Random_Y_C1-1-e1509566933581.jpg
END:VEVENT
BEGIN:VEVENT
DTSTART;TZID=America/Toronto:20171117T193000
DTEND;TZID=America/Toronto:20171117T213000
DTSTAMP:20260419T232158
CREATED:20170926T221452Z
LAST-MODIFIED:20180716T185105Z
UID:7773-1510947000-1510954200@www.uneq.qc.ca
SUMMARY:Spectacle littéraire : Nous sommes bien seules
DESCRIPTION:Lecture et interprétation : Hélène Brazeau\, Carole Chevalier\, Nicole Fréreault\, Lyne Gaudette\, Nathalie Godfrind et Carole Harel.\nInspirées et touchées par leur lecture du recueil de nouvelles Nous sommes bien seules de Julie Bosman\, paru chez Leméac en mars 2017\, six comédiennes non professionnelles\, toutes issues de la Troupe du théâtre des deux rives de Beloeil\, présentent le spectacle littéraire éponyme dans une interprétation empreinte de sobriété\, d’intériorité et de sensibilité. \nComme son titre l’indique\, le livre de Julie Bosman a pour thème principal la solitude au féminin. L’auteure s’est appuyée sur une démarche documentaire pour satisfaire sa curiosité et comprendre de l’intérieur la longue solitude de certaines femmes autour d’elle. Elle a mené 15 interviews auprès de femmes seules de corps et/ou de cœur depuis longtemps\, âgées de 32 à 85 ans. Elle a ensuite mis en forme cette matière première en lui donnant le pouvoir évocateur\, la profondeur et le souffle de la littérature.  \nJulie Bosman est originaire de Mont-Saint-Hilaire. Elle travaille dans le domaine des médias écrits. \n \nRencontre avec l’écrivaine Julie Bosman\nAprès la représentation\, les spectateurs pourront échanger avec l’auteure et les comédiennes. \nPour plus de commentaires sur le recueil Nous sommes bien seules et Julie Bosman\, consultez : \n\nLa Presse\nLe Devoir\nLa Recrue\nLa page Facebook de Julie Bosman\n\nPrix d’entrée :  10 $\, sur réservation seulement : Carole Harel\, 450 464-5112 ou leszelles6@gmail.com.
URL:https://www.uneq.qc.ca/evenement/spectacle-litteraire-sommes-bien-seules/
LOCATION:Maison des écrivains\, 3492\, avenue Laval\, Montréal\, Québec\, H2X 3C8 \, Canada
CATEGORIES:À la Maison des écrivains,Autres activités
ATTACH;FMTTYPE=image/jpeg:https://www.uneq.qc.ca/wp-content/uploads/2017/09/Nous-sommes.jpg
ORGANIZER;CN="Les Z'Elles":MAILTO:leszelles6@gmail.com
END:VEVENT
BEGIN:VEVENT
DTSTART;TZID=America/Toronto:20171120T183000
DTEND;TZID=America/Toronto:20171120T203000
DTSTAMP:20260419T232158
CREATED:20171120T152635Z
LAST-MODIFIED:20180716T185042Z
UID:8567-1511202600-1511209800@www.uneq.qc.ca
SUMMARY:Lancement du recueil trilingue Estrella de agua\, de Lady Rojas Benavente
DESCRIPTION:Traduction dirigée par / Translation directed by Sophie M. Lavoie \n  \n  \nNous espérons vous voir ! / We look forward to seeing you! \nInvités spéciaux / Special guests \nCora Siré & Hugh Hazelton \nVin / Wine reception \n 
URL:https://www.uneq.qc.ca/evenement/lancement-recueil-trilingue-estrella-de-agua-de-lady-rojas-benavente/
LOCATION:Maison des écrivains\, 3492\, avenue Laval\, Montréal\, Québec\, H2X 3C8 \, Canada
CATEGORIES:À la Maison des écrivains,Autres activités
ATTACH;FMTTYPE=image/jpeg:https://www.uneq.qc.ca/wp-content/uploads/2017/11/LadyRojas.jpg
END:VEVENT
BEGIN:VEVENT
DTSTART;TZID=America/Toronto:20171123T190000
DTEND;TZID=America/Toronto:20171123T210000
DTSTAMP:20260419T232158
CREATED:20171108T201957Z
LAST-MODIFIED:20180716T185000Z
UID:8413-1511463600-1511470800@www.uneq.qc.ca
SUMMARY:La Piazza : la ville par ses saveurs ou manger avec les yeux
DESCRIPTION:Source : Wikimedia Commons\nLe patrimoine urbain\, la mémoire d’une ville et les… papilles gustatives : tout est une question de goût !\nDans le cadre de la série La Piazza\, l’Institut Italien de Culture de Montréal et l’Union des écrivaines et des écrivains québécois (UNEQ) vous convient à une soirée urbano-culino-littéraire mettant en vedette Antida Gazzola\, professeure de sociologie urbaine et rurale de l’Université de Gênes. Dans son plus récent ouvrage\, La città e il gusto\, elle s’attarde aux villes de Québec\, Strasbourg et Gênes sous l’angle du goût\, de la cuisine et des contextes urbains. \nL’écrivaine québécoise Annie L’Italien (sans jeu de mots !)\, auteure du roman Zut ! j’ai raté mon gâteau\, mettra son grain de sel. \nJeudi 23 novembre 2017\, 19 h\, à la Maison des écrivains (3492\, avenue Laval\, Montréal). \nVins et bouchées seront servis en fin de soirée. Entrée libre. \nR.S.V.P. avant le 22 novembre : ecrivez@uneq.qc.ca ou 514 849-8540 poste 0. \n  \n\nNée à Sanremo\, Antida Gazzola a obtenu à Gênes une maîtrise en droit et une spécialisation en criminologie clinique. Elle a donné des séminaires de sociologie urbaine dans plusieurs universités à travers le monde et participé au Plan directeur de Nicosie à titre de conférencière. De 1989 à 1992\, elle a agi comme consultante pour l’ONU sur les questions liées à la connaissance urbaine dans les pays du Maghreb. En 2000-2001\, elle a coordonné à Gênes l’une des équipes italiennes qui ont collaboré au programme MOST – UNESCO « Les mots de la ville ». Elle a été professeure invitée à l’École d’architecture de l’Université Laval (Québec) et à l’Université de Strasbourg. Elle est actuellement professeure de sociologie à l’École polytechnique de l’Université de Gênes\, membre du conseil scientifique du Laboratoire d’expérimentation sur la qualité urbaine de la Fondation Mario et Giorgio Labò\, membre du comité de rédaction de la Revue des Sciences Sociales et collaboratrice de la revue La Ballata. Elle est l’auteur d’une centaine de publications (monographies\, essais et articles). Son dernier livre\, La città e il gusto. Il cibo come traccia sensoriale per la conoscenza degli spazi urbani (La ville et le goût. La nourriture comme trace sensorielle pour la connaissance des espaces urbains)\, porte sur les villes de Québec\, Strasbourg et Gênes. \nDès notre naissance\, manger et se mouvoir\, avoir un endroit où vivre et avoir d’agréables relations affectives avec l’autre sont\, pour chacun d’entre nous\, les exigences incontournables qui influencent notre vie. Quand nous grandissons\, nos horizons s’élargissent. La nourriture comme élément de survie devient un plaisir. Avec la possibilité de marcher\, le mouvement devient une source de connaissances qui s’agrandit ; du lit à la chambre\, de la chambre à la maison\, de la maison à la rue\, au quartier\, à la ville et\, avec le temps\, à des endroits de plus en plus éloignés\, vastes et complexes. \nEn même temps\, la nourriture peut attirer des gens de divers milieux dans des endroits fort différents de leurs habitudes et qui\, autrement\, ne s’y seraient jamais aventurés. Le restaurant\, le bistro\, le café\, avant même de répondre à la nécessité de nourrir\, accueillent des relations sociales. Le goût\, le partage\, la mémoire relient les gens et les lieux. \n(Source des photos : Wikimedia Commons) \n  \n\n  \nPhoto : Maxyme G. Delisle\nZut ! j’ai raté mon gâteau (2016) est le cinquième roman d’Annie L’Italien\, écrivaine et consultante en communications inspirée par son entourage et les trop nombreuses émissions de cuisine qu’elle regarde. \nComédie légèrement dramatique qui se lit l’eau à la bouche et le sourire aux lèvres\, Zut ! j’ai raté mon gâteau nous plonge dans les univers savoureux de trois femmes aux trajectoires uniques\, étroitement liées par leur passion pour la cuisine. Lorsque la nourriture devient l’inspiration et le fil conducteur d’un roman à saveur historique et au ton résolument humoristique\, tout peut arriver… \nAnnie L’Italien est aussi l’auteure des romans Petit guide pour orgueilleuse (légèrement) repentante (2008)\, Toujours orgueilleuse\, mais (à peine) plus repentante (2009)\, Ce ne sera pas si simple (2013) et Tout simplement compliqué (2014).\n 
URL:https://www.uneq.qc.ca/evenement/la-piazza-ville-par-ses-saveurs-ou-manger-avec-les-yeux/
LOCATION:Maison des écrivains\, 3492\, avenue Laval\, Montréal\, Québec\, H2X 3C8 \, Canada
CATEGORIES:À la Maison des écrivains,La Piazza
ATTACH;FMTTYPE=image/jpeg:https://www.uneq.qc.ca/wp-content/uploads/2017/11/Gênes-2-1.jpg
ORGANIZER;CN="Union des %C3%A9crivaines et des %C3%A9crivains qu%C3%A9b%C3%A9cois":MAILTO:ecrivez@uneq.qc.ca
END:VEVENT
BEGIN:VEVENT
DTSTART;TZID=America/Toronto:20171130T180000
DTEND;TZID=America/Toronto:20171130T200000
DTSTAMP:20260419T232158
CREATED:20171123T165741Z
LAST-MODIFIED:20180716T184921Z
UID:8641-1512064800-1512072000@www.uneq.qc.ca
SUMMARY:John Miller Beauvoir lance son ouvrage Démocratie : mythes et limites
DESCRIPTION:L’auteur\, politologue et analyste politique John Miller Beauvoir lance son ouvrage intitulé Démocratie : mythes et limites. Regards sur l’expérience haïtienne. \nCe livre est un oeuvre d’acrobatie mettant en relief\, d’une part\, le citoyen tourmenté par les déboires de son pays\, Haïti\, dans son cheminement en dents de scie  vers la démocratie ; et\, d’autre part\, le politologue qui se doit de prendre du recul par rapport à la lecture hâtive\, passionnelle et souvent tronquée de « l’actualité » en vue de produire une analyse scientifique susceptible de faire avancer la connaissance. \nL’auteur mobilise son expérience concrète en matière de promotion de la démocratie et diverses théories de la science politique pour évaluer objectivement la performance du régime démocratique tout en faisant ressortir ses mythes et ses limites. \nÀ l’occasion de la soirée de lancement\, l’auteur fera un survol des idées-forces et des conclusions pertinentes des huit chapitres du livre.
URL:https://www.uneq.qc.ca/evenement/john-miller-beauvoir-lance-ouvrage-democratie-mythes-limites/
LOCATION:Maison des écrivains\, 3492\, avenue Laval\, Montréal\, Québec\, H2X 3C8 \, Canada
CATEGORIES:À la Maison des écrivains,Autres activités
ATTACH;FMTTYPE=image/jpeg:https://www.uneq.qc.ca/wp-content/uploads/2017/11/Maison-des-ecrivains-2-e1511456233592.jpg
END:VEVENT
END:VCALENDAR