BEGIN:VCALENDAR
VERSION:2.0
PRODID:-//UNEQ - ECPv6.15.18//NONSGML v1.0//EN
CALSCALE:GREGORIAN
METHOD:PUBLISH
X-WR-CALNAME:UNEQ
X-ORIGINAL-URL:https://www.uneq.qc.ca
X-WR-CALDESC:Évènements pour UNEQ
REFRESH-INTERVAL;VALUE=DURATION:PT1H
X-Robots-Tag:noindex
X-PUBLISHED-TTL:PT1H
BEGIN:VTIMEZONE
TZID:America/Toronto
BEGIN:DAYLIGHT
TZOFFSETFROM:-0500
TZOFFSETTO:-0400
TZNAME:EDT
DTSTART:20160313T070000
END:DAYLIGHT
BEGIN:STANDARD
TZOFFSETFROM:-0400
TZOFFSETTO:-0500
TZNAME:EST
DTSTART:20161106T060000
END:STANDARD
BEGIN:DAYLIGHT
TZOFFSETFROM:-0500
TZOFFSETTO:-0400
TZNAME:EDT
DTSTART:20170312T070000
END:DAYLIGHT
BEGIN:STANDARD
TZOFFSETFROM:-0400
TZOFFSETTO:-0500
TZNAME:EST
DTSTART:20171105T060000
END:STANDARD
BEGIN:DAYLIGHT
TZOFFSETFROM:-0500
TZOFFSETTO:-0400
TZNAME:EDT
DTSTART:20180311T070000
END:DAYLIGHT
BEGIN:STANDARD
TZOFFSETFROM:-0400
TZOFFSETTO:-0500
TZNAME:EST
DTSTART:20181104T060000
END:STANDARD
END:VTIMEZONE
BEGIN:VEVENT
DTSTART;TZID=America/Toronto:20171208T180000
DTEND;TZID=America/Toronto:20171208T210000
DTSTAMP:20260419T232156
CREATED:20171128T193901Z
LAST-MODIFIED:20180716T184624Z
UID:8677-1512756000-1512766800@www.uneq.qc.ca
SUMMARY:Atelier d'écriture avec Jean Barbe
DESCRIPTION:
URL:https://www.uneq.qc.ca/evenement/atelier-decriture-jean-barbe/
LOCATION:Maison des écrivains\, 3492\, avenue Laval\, Montréal\, Québec\, H2X 3C8 \, Canada
CATEGORIES:À la Maison des écrivains,Autres activités
ATTACH;FMTTYPE=image/jpeg:https://www.uneq.qc.ca/wp-content/uploads/2017/11/jean-barbe-atelier-d-ecriture-Association-culturelle-Passerelle-1-e1511897901999.jpg
ORGANIZER;CN="E-Passerelle":MAILTO:e.passerelle@gmail.com
END:VEVENT
BEGIN:VEVENT
DTSTART;TZID=America/Toronto:20171212T180000
DTEND;TZID=America/Toronto:20171212T200000
DTSTAMP:20260419T232156
CREATED:20171128T194600Z
LAST-MODIFIED:20180716T184549Z
UID:8681-1513101600-1513108800@www.uneq.qc.ca
SUMMARY:Lecture-causerie autour du roman La mauvaise herbe de Sylvie Coulet
DESCRIPTION:
URL:https://www.uneq.qc.ca/evenement/lecture-causerie-autour-roman-mauvaise-herbe-de-sylvie-coulet/
LOCATION:Maison des écrivains\, 3492\, avenue Laval\, Montréal\, Québec\, H2X 3C8 \, Canada
CATEGORIES:À la Maison des écrivains,Autres activités
ATTACH;FMTTYPE=image/jpeg:https://www.uneq.qc.ca/wp-content/uploads/2017/11/Lecture-causerie-du-12-décembre-1-e1511898443975.jpg
END:VEVENT
BEGIN:VEVENT
DTSTART;TZID=America/Toronto:20171215T170000
DTEND;TZID=America/Toronto:20171215T190000
DTSTAMP:20260419T232156
CREATED:20171206T212247Z
LAST-MODIFIED:20180716T184519Z
UID:8815-1513357200-1513364400@www.uneq.qc.ca
SUMMARY:Lancement du recueil de poésie d'Yves Allaire Égarer les ombres
DESCRIPTION:À l’occasion du lancement de son recueil Égarer les ombres\, Yves Allaire vous invite à un « Acte de poésie »\, vendredi le 15 décembre prochain\, à 17 h\, à la Maison des écrivains. Une rencontre à l’heure de l’apéro\, avec vin\, causerie\, poésie et musique. \nYves Allaire est auteur-poète\, acteur\, animateur et metteur en scène. En 2007\, il crée le spectacle poétique Les mots du silence de mon père. À Radio VM pendant sept ans\, il conçoit\, anime et réalise Vivante poésie\, émission hebdomadaire unique en son genre.  \nDe 2008 à 2011\, il conçoit et anime La poésie par Cœur au Centre d’arts Orford\, où il livre ses poèmes et reçoit des poètes québécois parmi les plus marquants. Il met en scène plus de 24 représentations littéraires pour l’Association des auteures et auteurs de l’Estrie. \nAuteur de quatre pièces de théâtre\, Yves a écrit une portée poétique de 14 chiens\, Rompre les chiens\, un récit poésie\, Soiz\, et son récent recueil de poésie Égarer les ombres. Il donne des ateliers de poésie pour l’Université du troisième âge de l’Université de Sherbrooke. \nRSVP à yvesallaire@sympatico.ca.
URL:https://www.uneq.qc.ca/evenement/lancement-recueil-de-poesie-dyves-allaire-egarer-ombres/
LOCATION:Maison des écrivains\, 3492\, avenue Laval\, Montréal\, Québec\, H2X 3C8 \, Canada
CATEGORIES:À la Maison des écrivains,Autres activités
ATTACH;FMTTYPE=image/jpeg:https://www.uneq.qc.ca/wp-content/uploads/2017/12/YvesAllaire-e1512594972541.jpg
ORGANIZER;CN="Yves Allaire":MAILTO:yvesallaire@sympatico.ca
END:VEVENT
BEGIN:VEVENT
DTSTART;TZID=America/Toronto:20171216T140000
DTEND;TZID=America/Toronto:20171216T160000
DTSTAMP:20260419T232156
CREATED:20171214T170758Z
LAST-MODIFIED:20180716T184506Z
UID:8894-1513432800-1513440000@www.uneq.qc.ca
SUMMARY:20e anniversaire d'auteure de Sylvie Bergeron
DESCRIPTION:Il y a 20 ans\, Sylvie Bergeron publiait son premier livre\, Rétablir la communication. Cet ouvrage traite de la pensée créatrice. \nL’année suivante\, Québecor a accepté de distribuer son deuxième livre La quête du détachement. \nDepuis\, elle a écrit une dizaine d’autres livres\, a conçu la formation Le Créateur\, le test sensimétrique et mis en place un blogue\, tout en poursuivant sa pratique de coaching. \nAujourd’hui\, elle célèbre le 20e anniversaire de la publication de son premier livre. \nEntrée libre !
URL:https://www.uneq.qc.ca/evenement/20e-anniversaire-dauteure-de-sylvie-bergeron/
LOCATION:Maison des écrivains\, 3492\, avenue Laval\, Montréal\, Québec\, H2X 3C8 \, Canada
CATEGORIES:À la Maison des écrivains,Autres activités
ATTACH;FMTTYPE=image/jpeg:https://www.uneq.qc.ca/wp-content/uploads/2017/12/SylvieBergeronInvit-1-e1513271253488.jpg
ORGANIZER;CN="Sylvie Bergeron":MAILTO:sylviebergeron@laguaya.com
END:VEVENT
BEGIN:VEVENT
DTSTART;TZID=America/Toronto:20171220T180000
DTEND;TZID=America/Toronto:20171220T210000
DTSTAMP:20260419T232156
CREATED:20171130T190250Z
LAST-MODIFIED:20180716T184439Z
UID:8727-1513792800-1513803600@www.uneq.qc.ca
SUMMARY:Lancement du livre d'Iman Eyitayo Un Noël pas comme les autres
DESCRIPTION:À l’occasion de la sortie de son 7e ouvrage (oui\, déjà !)\, Iman vous invite à une soirée de lancement inoubliable.\nAu programme : présentation\, discussion\, échanges\, dédicaces\, et dégustation de boissons à l’hibiscus du traiteur Saveurs d’Hibiscus\, qui vous feront voyager ! \nVenez nombreux célébrer la littérature\, tout en satisfaisant vos papilles. \nEntrée libre ! \n\nPour en savoir plus sur les ouvrages d’Iman\, cliquez ici\nPour en savoir plus sur les créations de Saveurs d’Hibiscus\, cliquez ici\nPour découvrir la Maison de l’Afrique\, cliquez ici\n\n 
URL:https://www.uneq.qc.ca/evenement/lancement-livre-noel-autres-diman-eyitayo/
LOCATION:Maison des écrivains\, 3492\, avenue Laval\, Montréal\, Québec\, H2X 3C8 \, Canada
CATEGORIES:À la Maison des écrivains,Autres activités
ATTACH;FMTTYPE=image/jpeg:https://www.uneq.qc.ca/wp-content/uploads/2017/11/Iman-e1512068405872.jpg
END:VEVENT
END:VCALENDAR