BEGIN:VCALENDAR
VERSION:2.0
PRODID:-//UNEQ - ECPv6.15.18//NONSGML v1.0//EN
CALSCALE:GREGORIAN
METHOD:PUBLISH
X-ORIGINAL-URL:https://www.uneq.qc.ca
X-WR-CALDESC:Évènements pour UNEQ
REFRESH-INTERVAL;VALUE=DURATION:PT1H
X-Robots-Tag:noindex
X-PUBLISHED-TTL:PT1H
BEGIN:VTIMEZONE
TZID:America/Toronto
BEGIN:DAYLIGHT
TZOFFSETFROM:-0500
TZOFFSETTO:-0400
TZNAME:EDT
DTSTART:20180311T070000
END:DAYLIGHT
BEGIN:STANDARD
TZOFFSETFROM:-0400
TZOFFSETTO:-0500
TZNAME:EST
DTSTART:20181104T060000
END:STANDARD
BEGIN:DAYLIGHT
TZOFFSETFROM:-0500
TZOFFSETTO:-0400
TZNAME:EDT
DTSTART:20190310T070000
END:DAYLIGHT
BEGIN:STANDARD
TZOFFSETFROM:-0400
TZOFFSETTO:-0500
TZNAME:EST
DTSTART:20191103T060000
END:STANDARD
BEGIN:DAYLIGHT
TZOFFSETFROM:-0500
TZOFFSETTO:-0400
TZNAME:EDT
DTSTART:20200308T070000
END:DAYLIGHT
BEGIN:STANDARD
TZOFFSETFROM:-0400
TZOFFSETTO:-0500
TZNAME:EST
DTSTART:20201101T060000
END:STANDARD
END:VTIMEZONE
BEGIN:VEVENT
DTSTART;TZID=America/Toronto:20190919T170000
DTEND;TZID=America/Toronto:20191205T170000
DTSTAMP:20260420T025914
CREATED:20190820T173002Z
LAST-MODIFIED:20190913T191012Z
UID:16669-1568912400-1575565200@www.uneq.qc.ca
SUMMARY:Sculpter les mots : rétrospective de Viatour-Berthiaume
DESCRIPTION:Le vernissage de l’exposition\, le 19 septembre 2019 à 17 h\, soulignera le dixième anniversaire du lancement du roman Ru de Kim Thúy\, en présence des artistes et de l’écrivaine.\nLes courts-métrages Quand Boucar Diouf s’intègre au bois (sélection officielle du 37e Festival International du Film sur l’Art) et Sous l’écorce des mots de Kim Thúy\, tous deux réalisés par Louis-Roland Leduc\, seront projetés durant le vernissage et présentés pendant toute la durée de l’exposition.\n  \n⇒  RSVP : 514 849-8540 poste zéro ou ecrivez@uneq.qc.ca \n« Nous avons toujours perçu l’art comme un terrain de jeu favorisant l’expression artistique. La réalisation de nos quatre corpus d’œuvres inspirés des textes d’auteurs québécois nous a permis d’aller au-delà des mots et de créer des zones de rencontres entre les métiers d’art d’expression et la littérature. » \nMarie-Annick Viatour et Gaétan Berthiaume\, 2019 \nEn 2008\, Viatour-Berthiaume entame un premier corpus de sculptures de bois polychrome intitulé Jouer avec Michel Tremblay\, inspiré du livre Bonbons assortis et des Chroniques du Plateau Mont-Royal. Cette première exposition sera suivie par La boîte à jouets de Fred (Fred Pellerin)\, Sous l’écorce des mots de Kim Thúy et Quand Boucar Diouf s’intègre au bois. Chaque série d’œuvres uniques a tiré son inspiration des œuvres\, des textes\, des livres\, des contes ou des chroniques d’auteurs francophones québécois. Le choix des muses s’est toujours amorcé par un coup de cœur motivé par un désir d’illustrer plus particulièrement l’enfance des auteurs. En revisitant les mots des auteurs\, le duo a laissé libre cours à son imagination tout en respectant l’essence des textes. \nD’une œuvre à l’autre\, d’une muse à l’autre\, Marie-Annick Viatour et Gaétan Berthiaume inventent de nouvelles formes et introduisent à chaque création un niveau de lecture de plus en plus complexe. Le duo fait de l’interaction sociale une partie intégrante de sa production et de l’expérience de ses œuvres. Mêlant beauté\, ingéniosité et espièglerie\, les sculptures du duo racontent des histoires tantôt drôles\, tantôt poétiques et tantôt dramatiques créant systématiquement des zones de rencontres entre les métiers d’art d’expression et la littérature. \nViatour-Berthiaume – Crédit : Pierre Guzzo\nUn tandem à quatre mains\nUne attirance commune pour le jouet et l’art du jeu réunit Marie-Annick Viatour et Gaétan Berthiaume\, étudiants en arts visuels à l’Université Concordia à la fin des années 1980. \nLe duo d’artisans-sculpteurs en art d’expression inscrit sa pratique de la sculpture sur bois dans un univers inspiré de l’artisanat traditionnel et des jouets de bois anciens articulés. Depuis près de 20 ans\, Viatour-Berthiaume aborde l’art contemporain par le truchement du savoir-faire des métiers d’art et l’introduction d’un discours narratif à la fois précis et complexe dans chacune de ses œuvres. \nLe duo introduit une autre dimension à la sculpture. Il faut regarder les sculptures de Marie-Annick Viatour et Gaétan Berthiaume non pas uniquement comme des objets\, mais aussi selon l’espace qu’elles occupent par ses mouvements et le discours que le duo introduit dans ses œuvres. Ses sculptures ne cherchent pas qu’à plaire\, elles possèdent un sens profond. Viatour-Berthiaume fait de l’interaction sociale une partie intégrante de sa production et de l’expérience de ses œuvres \nAu fil des ans\, les chansons\, contes et textes d’auteurs francophones ont séduit le duo et sont venus nourrir son imaginaire pour s’imposer comme force vive de création. Des mots qui le touchent\, l’animent\, l’amènent ailleurs\, le font vibrer ou sourire. Bref\, autant d’écrits qui viennent enflammer son imagination et qu’il traduit en sculptures et en scénettes ludiques. \nViatour-Berthiaume est l’expression parfaite d’un tandem : des deux têtes et des quatre mains naissent la complémentarité de deux imaginaires et la dextérité de deux artisans-sculpteurs. \n 
URL:https://www.uneq.qc.ca/evenement/sculpter-les-mots-retrospective-viatour-berthiaume/
LOCATION:Maison des écrivains\, 3492\, avenue Laval\, Montréal\, Québec\, H2X 3C8 \, Canada
CATEGORIES:À la Maison des écrivains,Minigalerie
ATTACH;FMTTYPE=image/jpeg:https://www.uneq.qc.ca/wp-content/uploads/2019/08/Sous_ecorce_des_mots.jpg
ORGANIZER;CN="Union des %C3%A9crivaines et des %C3%A9crivains qu%C3%A9b%C3%A9cois":MAILTO:ecrivez@uneq.qc.ca
END:VEVENT
BEGIN:VEVENT
DTSTART;TZID=America/Toronto:20191001T190000
DTEND;TZID=America/Toronto:20191001T210000
DTSTAMP:20260420T025914
CREATED:20190924T200452Z
LAST-MODIFIED:20190926T134224Z
UID:17376-1569956400-1569963600@www.uneq.qc.ca
SUMMARY:Projection et discussion : Une modernité dans la steppe\, avec Ömer Özen
DESCRIPTION:Le livre et le film documentaire Une modernité dans la steppe\, de l’auteur et cinéaste Kurtuluş Özgen\, raconte l’histoire de l’usine de vêtements Sümerbank à Kayseri\, en Turquie.\nÀ partir de témoignages et d’événements historiques issus des relations turco-russes dans les années 1930\, le film de 54 minutes décrit ce qu’une usine a changé dans la vie d’une ville.  \nL’usine de confection de Kayseri Sümerbank\, dont on ne se souvient plus beaucoup aujourd’hui (mis à part sa valeur symbolique dans la mémoire populaire)\, est pourtant très importante\, car c’est le premier exemple de la coopération en cours entre la Turquie et la Russie.\n  \nLe 1er octobre 2019\, de 19 h à 21 h. \nÀ la Maison des écrivains (3492\, avenue Laval\, Montréal). Entrée libre ! \nLe film est sous-titré en anglais. \nAprès la présentation du film\, l’écrivain Ömer Özen animera la discussion.
URL:https://www.uneq.qc.ca/evenement/projection-discussion-une-modernite-dans-la-steppe-omer-ozen/
LOCATION:Maison des écrivains\, 3492\, avenue Laval\, Montréal\, Québec\, H2X 3C8 \, Canada
CATEGORIES:À la Maison des écrivains,Autres activités
ATTACH;FMTTYPE=image/jpeg:https://www.uneq.qc.ca/wp-content/uploads/2019/09/BBM-POSTER_FRb-a-002.jpg
END:VEVENT
BEGIN:VEVENT
DTSTART;TZID=America/Toronto:20191005T130000
DTEND;TZID=America/Toronto:20191005T170000
DTSTAMP:20260420T025914
CREATED:20190812T151632Z
LAST-MODIFIED:20190813T152111Z
UID:16750-1570280400-1570294800@www.uneq.qc.ca
SUMMARY:Musclez votre imaginaire — atelier d'écriture offert par Christiane Duchesne
DESCRIPTION:Un atelier de création par le biais de l’écriture\, véritable gymnastique pour découvrir les ressources de votre inventivité\, provoquer et débrider cette force paradoxale qui se nourrit de liberté et qui gagne à être balisée pour pouvoir s’exprimer.\nUne gymnastique qui provoque l’imagination de manière percutante\, joyeuse aussi\, parce que très surprenante. \n\nDurée : quatre heures\nMaximum de 12 participants.\n115 $ par personne.\nPour vos inscrire : duchesnec10@icloud.com\nPour en savoir plus sur Christiane Duchesne.
URL:https://www.uneq.qc.ca/evenement/musclez-votre-imaginaire-atelier-decriture-offert-par-christiane-duchesne/
LOCATION:Maison des écrivains\, 3492\, avenue Laval\, Montréal\, Québec\, H2X 3C8 \, Canada
CATEGORIES:À la Maison des écrivains,Autres activités
ATTACH;FMTTYPE=image/jpeg:https://www.uneq.qc.ca/wp-content/uploads/2017/09/Duchesne-Christiane.jpg
ORGANIZER;CN="Christiane Duchesne":MAILTO:duchesnec10@icloud.com
END:VEVENT
BEGIN:VEVENT
DTSTART;TZID=America/Toronto:20191012T093000
DTEND;TZID=America/Toronto:20191012T163000
DTSTAMP:20260420T025914
CREATED:20190829T145216Z
LAST-MODIFIED:20210409T195144Z
UID:17059-1570872600-1570897800@www.uneq.qc.ca
SUMMARY:Formation — Contenu d’une œuvre littéraire : que puis-je dire ou utiliser ?
DESCRIPTION:L’atelier Contenu d’une œuvre littéraire : que puis-je dire ou utiliser ? dresse un portrait général des implications et des obligations qui doivent être prises en compte lors de l’élaboration du contenu d’une œuvre littéraire\, notamment en regard des droits de la personnalité\, de la Loi sur le droit d’auteur et du Code criminel. Le formateur vulgarise les législations visées\, en établit la juste interprétation et explique les implications et les applications.\nLors de la formation\, les participants auront l’occasion de : \n\nconnaître les lois liées au contenu d’une œuvre littéraire : Loi sur le droit d’auteur\, droits de la personnalité\, Code criminel ;\ncomprendre les implications et les risques liés aux droits de la personnalité dans une œuvre littéraire ;\ncomprendre les règles d’utilisation d’autres textes et d’autres œuvres dans une œuvre littéraire ;\nsavoir quelles sont les démarches à effectuer pour prévenir les poursuites liées aux droits de la personnalité ou aux droits d’auteur.\n\nFormateur\nMe Olivier Leblanc. Avocat et agent d’artistes à l’Agence Olivier Corbeil\, Me Olivier Leblanc a étudié le droit à l’Université de Sherbrooke avant de pratiquer au sein du cabinet Pringle Avocats\, en droit matrimonial\, puis de se spécialiser en droit du divertissement. Il a aussi été président du conseil d’administration de l’AGED Sherbrooke en 2015 et 2016. Ses connaissances juridiques\, jumelées à ses compétences d’agent d’artiste et ses expériences académiques l’amènent\, en 2018\, à travailler avec l’UNEQ à titre de conseiller juridique sur divers dossiers et cas particuliers. \nOù\, quand ?\n\nLieu : Maison des écrivains (3492\, avenue Laval\, Montréal\, H2X 3C8)\nDate et durée : samedi 12 octobre 2019\, de 9 h 30 à 16 h 30\nNombre de places disponibles : 12\nCoût : 40 $\n\n⇒ Inscription : cliquez ici\n\nChaque année\, l’UNEQ offre des ateliers de formation en salle sur divers aspects du métier d’écrivain. S’adressant tant aux écrivains en cours de carrière qu’à ceux de la relève\, les ateliers sont ouverts aux membres et aux non-membres. \nPour en savoir plus sur nos formations\, cliquez ici. \nDes suggestions pour vos besoins en formation continue ? Écrivez à Geneviève Lauzon\, directrice des services aux membres de l’UNEQ : g.lauzon@uneq.qc.ca.
URL:https://www.uneq.qc.ca/evenement/formation-contenu-oeuvre-litteraire/
LOCATION:Maison des écrivains\, 3492\, avenue Laval\, Montréal\, Québec\, H2X 3C8 \, Canada
CATEGORIES:À la Maison des écrivains,Ateliers de formation de l'UNEQ
ATTACH;FMTTYPE=image/jpeg:https://www.uneq.qc.ca/wp-content/uploads/2019/08/adult-blur-books-261909.jpg
ORGANIZER;CN="Union des %C3%A9crivaines et des %C3%A9crivains qu%C3%A9b%C3%A9cois":MAILTO:ecrivez@uneq.qc.ca
END:VEVENT
BEGIN:VEVENT
DTSTART;TZID=America/Toronto:20191019T093000
DTEND;TZID=America/Toronto:20191019T163000
DTSTAMP:20260420T025914
CREATED:20190829T150839Z
LAST-MODIFIED:20210409T201129Z
UID:17066-1571477400-1571502600@www.uneq.qc.ca
SUMMARY:Formation — La lecture publique : un art qui s’apprend
DESCRIPTION:Cette formation vise à transmettre aux participants les principes de base d’une lecture publique adéquate afin d’en maximiser l’impact sur la gestion de leur carrière. De fait\, un écrivain qui maîtrise l’art de la représentation publique participera avantageusement à la promotion de ses œuvres\, au maintien d’un lien privilégié avec son public\, et pourra conquérir un nouveau lectorat.\nLors de la formation\, les participants seront amenés à : \n\ndéterminer les principes de base d’une représentation publique ;\ndistinguer le verbal du non verbal ;\napprendre les principes de base sur la parole lors d’une lecture publique — timbre de voix\, force\, projection\, débit\, etc. ;\napprendre les principes de base du langage corporel (présence scénique\, mouvement\, communication gestuelle\, synergologie\, etc.).\n\nFormatrice\nPascale Montpetit. Depuis ses études au Conservatoire d’art dramatique de Montréal\, Pascale Montpetit a abondamment travaillé au théâtre\, à la télévision et au cinéma. Elle s’est notamment illustrée avec les metteurs en scène Charles Binamé\, André Brassard\, André Forcier\, Denis Marleau\, Lorraine Pintal et Jean-Pierre Ronfard\, tant dans le répertoire classique que la création. Elle a également fait de nombreuses lectures\, sur scène et à la radio\, notamment pour le Festival international de la littérature et dans le cadre d’événements organisés par l’UNEQ. \nOù\, quand ?\n\nLieu : Maison des écrivains (3492\, avenue Laval\, Montréal\, H2X 3C8)\nDate et durée : samedi 19 octobre 2019\, de 9 h 30 à 16 h 30\nNombre de places disponibles : 12\nCoût : 40 $\n\nInscription : cliquez ici\n\nChaque année\, l’UNEQ offre des ateliers de formation en salle sur divers aspects du métier d’écrivain. S’adressant tant aux écrivains en cours de carrière qu’à ceux de la relève\, les ateliers sont ouverts aux membres et aux non-membres. \nPour en savoir plus sur nos formations\, cliquez ici. \nDes suggestions pour vos besoins en formation continue ? Écrivez à Geneviève Lauzon\, directrice des services aux membres de l’UNEQ : g.lauzon@uneq.qc.ca.
URL:https://www.uneq.qc.ca/evenement/formation-lecture-publique-2019/
LOCATION:Maison des écrivains\, 3492\, avenue Laval\, Montréal\, Québec\, H2X 3C8 \, Canada
CATEGORIES:À la Maison des écrivains,Ateliers de formation de l'UNEQ
ATTACH;FMTTYPE=image/jpeg:https://www.uneq.qc.ca/wp-content/uploads/2019/01/Slam-2.jpg
ORGANIZER;CN="Union des %C3%A9crivaines et des %C3%A9crivains qu%C3%A9b%C3%A9cois":MAILTO:ecrivez@uneq.qc.ca
END:VEVENT
BEGIN:VEVENT
DTSTART;TZID=America/Toronto:20191026T130000
DTEND;TZID=America/Toronto:20191026T170000
DTSTAMP:20260420T025914
CREATED:20190829T151636Z
LAST-MODIFIED:20210409T200517Z
UID:17070-1572094800-1572109200@www.uneq.qc.ca
SUMMARY:Formation — Métier : écrire. L’écrivain au service de l’entreprise
DESCRIPTION:Les écrivains sont les experts du récit. Ils écoutent\, observent\, sentent\, puis ils transforment en histoires toute cette matière qu’ils ont perçue. C’est plus fort qu’eux ! Là où il n’y avait que des données disparates\, inintelligibles\, l’écrivain crée du sens. Pour le cerveau humain\, le monde devient compréhensible lorsque présenté sous forme narrative.\nC’est dire que toute entreprise dont l’existence dépend de sa capacité à convaincre un auditoire aura avantage à savoir organiser son propos sous la forme la plus susceptible de créer l’adhésion : le récit\, l’histoire\, la structure narrative. \nEt c’est là que l’écrivain entre — ou devrait entrer — en scène. Dans cet atelier\, les écrivains en quête de nouvelles manières excitantes et lucratives de pratiquer leur métier découvriront comment adapter leurs habiletés créatives aux besoins d’entreprises susceptibles de les employer.  \nLes participants auront ainsi l’occasion de : \n\nconnaître une source différente de revenus liés aux compétences du métier d’écrivain ;\ndévelopper et peaufiner leurs compétences d’écrivains en regard des services requis par diverses entreprises ;\nétablir des barèmes tarifaires équitables pour la prestation des services qu’il pourraient offrir en regard de l’expertise développée au cours de leur pratique du métier d’écrivain ;\neffectuer les démarches nécessaires pour faire connaître leur offre de services auprès d’entreprises.\n\nFormateur\nMathieu Boutin. Écrivain\, Mathieu Boutin a publié plusieurs titres aux éditions Québec Amérique\, Planète rebelle et chez Druide éditeur. Aussi avocat et gestionnaire\, il a occupé diverses fonctions de direction dans l’industrie de l’information professionnelle\, juridique et fiscale. Au fil du temps et de ses expériences\, il a su développer une offre de services liés à ses talents et à ses compétences en écriture\, pour l’entreprise privée\, les associations professionnelles\, de même que pour l’administration publique. Il est notamment membre du Barreau du Québec et de la Professional Speechwriters Association. \nOù\, quand ?\n\nLieu : Maison des écrivains (3492\, avenue Laval\, Montréal\, H2X 3C8)\nDate et durée : samedi 26 octobre 2019\, de 13 h à 17 h\nNombre de places disponibles : 12\nCoût : 40 $\n\nInscription : cliquez ici\n\nChaque année\, l’UNEQ offre des ateliers de formation en salle sur divers aspects du métier d’écrivain. S’adressant tant aux écrivains en cours de carrière qu’à ceux de la relève\, les ateliers sont ouverts aux membres et aux non-membres. \nPour en savoir plus sur nos formations\, cliquez ici. \nDes suggestions pour vos besoins en formation continue ? Écrivez à Geneviève Lauzon\, directrice des services aux membres de l’UNEQ : g.lauzon@uneq.qc.ca.
URL:https://www.uneq.qc.ca/evenement/formation-ecrire-au-service-entreprise/
LOCATION:Maison des écrivains\, 3492\, avenue Laval\, Montréal\, Québec\, H2X 3C8 \, Canada
CATEGORIES:À la Maison des écrivains,Ateliers de formation de l'UNEQ
ATTACH;FMTTYPE=image/jpeg:https://www.uneq.qc.ca/wp-content/uploads/2019/08/asian-coffee-colleagues-1342481.jpg
ORGANIZER;CN="Union des %C3%A9crivaines et des %C3%A9crivains qu%C3%A9b%C3%A9cois":MAILTO:ecrivez@uneq.qc.ca
END:VEVENT
END:VCALENDAR