BEGIN:VCALENDAR
VERSION:2.0
PRODID:-//UNEQ - ECPv6.15.18//NONSGML v1.0//EN
CALSCALE:GREGORIAN
METHOD:PUBLISH
X-WR-CALNAME:UNEQ
X-ORIGINAL-URL:https://www.uneq.qc.ca
X-WR-CALDESC:Évènements pour UNEQ
REFRESH-INTERVAL;VALUE=DURATION:PT1H
X-Robots-Tag:noindex
X-PUBLISHED-TTL:PT1H
BEGIN:VTIMEZONE
TZID:America/Toronto
BEGIN:DAYLIGHT
TZOFFSETFROM:-0500
TZOFFSETTO:-0400
TZNAME:EDT
DTSTART:20180311T070000
END:DAYLIGHT
BEGIN:STANDARD
TZOFFSETFROM:-0400
TZOFFSETTO:-0500
TZNAME:EST
DTSTART:20181104T060000
END:STANDARD
BEGIN:DAYLIGHT
TZOFFSETFROM:-0500
TZOFFSETTO:-0400
TZNAME:EDT
DTSTART:20190310T070000
END:DAYLIGHT
BEGIN:STANDARD
TZOFFSETFROM:-0400
TZOFFSETTO:-0500
TZNAME:EST
DTSTART:20191103T060000
END:STANDARD
BEGIN:DAYLIGHT
TZOFFSETFROM:-0500
TZOFFSETTO:-0400
TZNAME:EDT
DTSTART:20200308T070000
END:DAYLIGHT
BEGIN:STANDARD
TZOFFSETFROM:-0400
TZOFFSETTO:-0500
TZNAME:EST
DTSTART:20201101T060000
END:STANDARD
END:VTIMEZONE
BEGIN:VEVENT
DTSTART;TZID=America/Toronto:20190919T170000
DTEND;TZID=America/Toronto:20191205T170000
DTSTAMP:20260420T133128
CREATED:20190820T173002Z
LAST-MODIFIED:20190913T191012Z
UID:16669-1568912400-1575565200@www.uneq.qc.ca
SUMMARY:Sculpter les mots : rétrospective de Viatour-Berthiaume
DESCRIPTION:Le vernissage de l’exposition\, le 19 septembre 2019 à 17 h\, soulignera le dixième anniversaire du lancement du roman Ru de Kim Thúy\, en présence des artistes et de l’écrivaine.\nLes courts-métrages Quand Boucar Diouf s’intègre au bois (sélection officielle du 37e Festival International du Film sur l’Art) et Sous l’écorce des mots de Kim Thúy\, tous deux réalisés par Louis-Roland Leduc\, seront projetés durant le vernissage et présentés pendant toute la durée de l’exposition.\n  \n⇒  RSVP : 514 849-8540 poste zéro ou ecrivez@uneq.qc.ca \n« Nous avons toujours perçu l’art comme un terrain de jeu favorisant l’expression artistique. La réalisation de nos quatre corpus d’œuvres inspirés des textes d’auteurs québécois nous a permis d’aller au-delà des mots et de créer des zones de rencontres entre les métiers d’art d’expression et la littérature. » \nMarie-Annick Viatour et Gaétan Berthiaume\, 2019 \nEn 2008\, Viatour-Berthiaume entame un premier corpus de sculptures de bois polychrome intitulé Jouer avec Michel Tremblay\, inspiré du livre Bonbons assortis et des Chroniques du Plateau Mont-Royal. Cette première exposition sera suivie par La boîte à jouets de Fred (Fred Pellerin)\, Sous l’écorce des mots de Kim Thúy et Quand Boucar Diouf s’intègre au bois. Chaque série d’œuvres uniques a tiré son inspiration des œuvres\, des textes\, des livres\, des contes ou des chroniques d’auteurs francophones québécois. Le choix des muses s’est toujours amorcé par un coup de cœur motivé par un désir d’illustrer plus particulièrement l’enfance des auteurs. En revisitant les mots des auteurs\, le duo a laissé libre cours à son imagination tout en respectant l’essence des textes. \nD’une œuvre à l’autre\, d’une muse à l’autre\, Marie-Annick Viatour et Gaétan Berthiaume inventent de nouvelles formes et introduisent à chaque création un niveau de lecture de plus en plus complexe. Le duo fait de l’interaction sociale une partie intégrante de sa production et de l’expérience de ses œuvres. Mêlant beauté\, ingéniosité et espièglerie\, les sculptures du duo racontent des histoires tantôt drôles\, tantôt poétiques et tantôt dramatiques créant systématiquement des zones de rencontres entre les métiers d’art d’expression et la littérature. \nViatour-Berthiaume – Crédit : Pierre Guzzo\nUn tandem à quatre mains\nUne attirance commune pour le jouet et l’art du jeu réunit Marie-Annick Viatour et Gaétan Berthiaume\, étudiants en arts visuels à l’Université Concordia à la fin des années 1980. \nLe duo d’artisans-sculpteurs en art d’expression inscrit sa pratique de la sculpture sur bois dans un univers inspiré de l’artisanat traditionnel et des jouets de bois anciens articulés. Depuis près de 20 ans\, Viatour-Berthiaume aborde l’art contemporain par le truchement du savoir-faire des métiers d’art et l’introduction d’un discours narratif à la fois précis et complexe dans chacune de ses œuvres. \nLe duo introduit une autre dimension à la sculpture. Il faut regarder les sculptures de Marie-Annick Viatour et Gaétan Berthiaume non pas uniquement comme des objets\, mais aussi selon l’espace qu’elles occupent par ses mouvements et le discours que le duo introduit dans ses œuvres. Ses sculptures ne cherchent pas qu’à plaire\, elles possèdent un sens profond. Viatour-Berthiaume fait de l’interaction sociale une partie intégrante de sa production et de l’expérience de ses œuvres \nAu fil des ans\, les chansons\, contes et textes d’auteurs francophones ont séduit le duo et sont venus nourrir son imaginaire pour s’imposer comme force vive de création. Des mots qui le touchent\, l’animent\, l’amènent ailleurs\, le font vibrer ou sourire. Bref\, autant d’écrits qui viennent enflammer son imagination et qu’il traduit en sculptures et en scénettes ludiques. \nViatour-Berthiaume est l’expression parfaite d’un tandem : des deux têtes et des quatre mains naissent la complémentarité de deux imaginaires et la dextérité de deux artisans-sculpteurs. \n 
URL:https://www.uneq.qc.ca/evenement/sculpter-les-mots-retrospective-viatour-berthiaume/
LOCATION:Maison des écrivains\, 3492\, avenue Laval\, Montréal\, Québec\, H2X 3C8 \, Canada
CATEGORIES:À la Maison des écrivains,Minigalerie
ATTACH;FMTTYPE=image/jpeg:https://www.uneq.qc.ca/wp-content/uploads/2019/08/Sous_ecorce_des_mots.jpg
ORGANIZER;CN="Union des %C3%A9crivaines et des %C3%A9crivains qu%C3%A9b%C3%A9cois":MAILTO:ecrivez@uneq.qc.ca
END:VEVENT
BEGIN:VEVENT
DTSTART;TZID=America/Toronto:20191109T133000
DTEND;TZID=America/Toronto:20191214T160000
DTSTAMP:20260420T133128
CREATED:20190731T142507Z
LAST-MODIFIED:20190801T134542Z
UID:16660-1573306200-1576339200@www.uneq.qc.ca
SUMMARY:Ateliers d'écriture créative avec Jonathan Harnois
DESCRIPTION:Jonathan Harnois\, auteur du roman Je voudrais me déposer la tête (finaliste au prix Anne-Hébert 2006) et parolier de renom (Dumas\, Alex Nevsky\, Salomé Leclerc et plusieurs autres)\, vous invite à une expérience d’exploration littéraire engageante et à une réflexion de fond sur l’art d’écrire.\nAu programme : affiner sa sensibilité aux détails signifiants\, regagner la maîtrise de son chantier littéraire grâce au composite\, apprivoiser les vertus insoupçonnées du pastiche\, et bien plus encore. \n  \nOù et quand \n\nMaison des écrivains (3492\, avenue Laval\, Montréal)\nLes samedis 9\, 16\, 23 et 30 novembre et le samedi 14 décembre 2019\nDe 13 h 30 à 16 h\n\nCoût \n\n225 $ la session\nPlaces limitées\n\nConsultez le site web jonathanharnois.com/cercles pour tous les détails. \n  \nCe qu’on en dit\n« Son intelligence\, la profondeur de ses interventions comme son respect absolu des créateurs m’ont inspiré. Dans chaque geste\, chaque regard et chaque syllabe\, Jonathan Harnois échange un savoir\, une expérience\, un goût des lettres. » — Claude Poissant\, directeur artistique Théâtre Denise-Pelletier\, metteur en scène et dramaturge \n« Les exercices proposés sont stimulants et efficaces\, structurants et libérateurs tout à la fois\, et les participants ont la possibilité de sortir de leur zone de confort\, ou au contraire plonger à fond dans ce qu’ils ont de plus personnel. Réaliser un équilibre dans tout ça est sûrement plus facile à dire qu’à faire. Chapeau donc. » — Denis Delorme\, participant (Saint-Charles-Borromée) \n« La grande force de Jonathan Harnois\, c’est sa quête d’authenticité. Elle permet de créer des liens aussi spontanés que sincères\, puis de favoriser un climat propice à l’échange et à la création de textes littéraires riches. » — Benoit Séguin\, enseignant en littérature au Cégep de l’Assomption \n  \nÀ propos de Jonathan Harnois\nJonathan Harnois naît à Joliette en 1981. Son premier roman\, Je voudrais me déposer la tête (finaliste au prix Anne-Hébert 2006)\, est adapté au théâtre par Claude Poissant en 2007. Il fait ensuite sa marque comme parolier (Dumas\, Vallières\, Gémus…) tout en se spécialisant dans la direction de grands projets d’écriture collective auprès des jeunes et des itinérants (Nos forêts chantées\, Notre fleuve chanté\, Je suis un arbre sans feuille).
URL:https://www.uneq.qc.ca/evenement/atelier-ecriture-creative-jonathan-harnois/
LOCATION:Maison des écrivains\, 3492\, avenue Laval\, Montréal\, Québec\, H2X 3C8 \, Canada
CATEGORIES:À la Maison des écrivains,Autres activités
ATTACH;FMTTYPE=image/png:https://www.uneq.qc.ca/wp-content/uploads/2019/07/Ateliers_JHarnois.png
END:VEVENT
BEGIN:VEVENT
DTSTART;TZID=America/Toronto:20191116T160000
DTEND;TZID=America/Toronto:20191116T180000
DTSTAMP:20260420T133128
CREATED:20191030T180941Z
LAST-MODIFIED:20191030T181037Z
UID:18007-1573920000-1573927200@www.uneq.qc.ca
SUMMARY:La mémoire de l'oubli
DESCRIPTION:Nous vous invitons à la lecture de\nLA MÉMOIRE DE L’OUBLI\nTexte de Céline De Guise\nMusique de Louise Féminier\nAvec la participation de\nDanièle Vallée\nDidier Féminier\nÉric Charlebois\nJean Beaudry\nJean-Fred Boulais\nLaurier Lacroix\nLise Vaillancourt\nLucie LaSalle\nMichel Côté\nYves Turbide \nLe samedi 16 novembre à 16 heures\nAu Salon Émile-Nelligan de la Maison des écrivains\n3492\, avenue Laval\nMontréal (QC) H2X 3C8 \nVeuillez confirmer votre présence auprès de celinedeguise@sympatico.ca \n  \n\nLa version PDF de cette invitation
URL:https://www.uneq.qc.ca/evenement/la-memoire-de-loubli/
LOCATION:Maison des écrivains\, 3492\, avenue Laval\, Montréal\, Québec\, H2X 3C8 \, Canada
CATEGORIES:À la Maison des écrivains,Autres activités
ATTACH;FMTTYPE=image/jpeg:https://www.uneq.qc.ca/wp-content/uploads/2019/10/entete.jpg
END:VEVENT
BEGIN:VEVENT
DTSTART;TZID=America/Toronto:20191128T170000
DTEND;TZID=America/Toronto:20191128T190000
DTSTAMP:20260420T133128
CREATED:20191120T201445Z
LAST-MODIFIED:20191126T183726Z
UID:18404-1574960400-1574967600@www.uneq.qc.ca
SUMMARY:Joaquín De La Torre\, essayiste créatif en résidence
DESCRIPTION:Le Conseil des arts et des lettres du Québec (CALQ)\, qui célèbre son 25e anniversaire cette année\, a développé un impressionnant réseau de résidences d’écriture à l’international. Ces résidences permettent à des écrivains québécois de s’envoler pour l’étranger.\nL’UNEQ\, pour sa part\, accueille à Montréal des écrivains étrangers qui ont obtenu une résidence grâce aux programmes développés en partenariat avec le CALQ. \nJoaquín De La Torre\nC’est actuellement le cas du jeune écrivain mexicain Joaquín De La Torre\, qui a obtenu une résidence d’écriture à Montréal\, du 3 septembre au 29 novembre 2019\, en vertu d’une entente de coopération entre le CALQ et le Fondo Nacional para la Cultura y las Artes (FONCA)\, à Mexico. \nJoaquín De La Torre a d’ores et déjà complété à Montréal la rédaction d’un essai créatif (composé de 16 textes) sur un sujet très actuel\, le mythe du succès individuel dans notre économie néolibérale. Joaquín De La Torre s’est inspiré d’un concept aristotélicien\, l’hamartia\, soit l’erreur fatale du héros de tragédie\, pour critiquer le mythe du succès individuel. Un essai qui promet une réflexion intéressante sur les gagnants et les laissés pour compte de notre époque. \n⇒ Le 28 novembre 2019\, à compter de 17 h\, venez rencontrer Joaquín De La Torre lors d’un cocktail offert par l’UNEQ à la Maison des écrivains. L’essayiste lira un bref extrait (traduit) de son essai complété pendant sa résidence à Montréal. \nDiane Isabelle\, CALQ\n⇒ Diane Isabelle\, chargée de programmes\, Studios et ateliers-résidences à la Direction du soutien à la diffusion et au rayonnement international du CALQ\, répondra aux questions du public sur les studios et ateliers-résidences dédiés aux écrivains québécois. \nEntrée libre ! \n\nPour en savoir plus sur les résidences du CALQ\, cliquez ici.
URL:https://www.uneq.qc.ca/evenement/joaquin-de-la-torre-residence/
LOCATION:Maison des écrivains\, 3492\, avenue Laval\, Montréal\, Québec\, H2X 3C8 \, Canada
CATEGORIES:À la Maison des écrivains,Écrivains en résidence
ATTACH;FMTTYPE=image/jpeg:https://www.uneq.qc.ca/wp-content/uploads/2019/11/Joaquín-De-La-Torre-1.jpg
ORGANIZER;CN="Union des %C3%A9crivaines et des %C3%A9crivains qu%C3%A9b%C3%A9cois":MAILTO:ecrivez@uneq.qc.ca
END:VEVENT
BEGIN:VEVENT
DTSTART;TZID=America/Toronto:20191130T093000
DTEND;TZID=America/Toronto:20191130T163000
DTSTAMP:20260420T133128
CREATED:20191016T181608Z
LAST-MODIFIED:20210409T195458Z
UID:17742-1575106200-1575131400@www.uneq.qc.ca
SUMMARY:Formation — Autopromotion : maximiser sa présence sur le web
DESCRIPTION:  \nLors de l’atelier\, la formatrice présentera d’abord différents outils numériques — sites web\, blogues et réseaux sociaux —\, les particularités de chacun\, leurs visées spécifiques et les clientèles ciblées.\nComment utiliser les outils numériques pour mettre des œuvres en valeur et mieux se positionner\, au-delà des cercles strictement littéraires ? Comment créer de nouveaux liens avec les lecteurs ou le grand public ? \nLors de la formation\, les participants auront l’occasion de : \n\ndéterminer les canaux de diffusion (documents promotionnels\, programmes\, espaces médiatiques\, sites\, blogues\, réseaux sociaux\, etc.) pertinents pour chaque objet ou service à promouvoir (quoi ? pour qui ? comment ?) ;\nappliquer les principes de base pour promouvoir efficacement leurs œuvres et leurs activités ;\nmettre de l’avant et considérer les bons éléments à inclure dans leurs activités et leur matériel promotionnel numériques ;\nexplorer certaines astuces pour optimiser l’impact de leur présence et de leurs interventions en communauté numérique ;\norganiser leur temps efficacement en regard de leurs autres activités.\n\nFormatrice\nMarika Laforest. Conseillère numérique | Transformation • Stratégie • Médias sociaux. Marika Laforest navigue depuis près de 20 ans dans l’univers du numérique\, du web et des médias sociaux. Elle a œuvré dans les secteurs industriel\, du commerce de détail\, de la construction\, des technologies\, de l’éducation\, du tourisme\, de la télévision et de la culture. Sur Facebook\, elle a fondé et co-administre les communautés Les arts\, la culture et le numérique (2 000 membres) ainsi que le groupe Gestionnaires de communautés du Québec (1 500 membres). Elle a également tenu pendant deux ans un blogue sur les médias sociaux pour le journal Métro. Elle est fascinée par le comportement humain sur et avec les médias numériques. \nOù\, quand ?\n\nLieu : Maison des écrivains (3492\, avenue Laval\, Montréal\, H2X 3C8)\nDate et durée : samedi 30 novembre 2019\, de 9 h 30 à 16 h 30\nNombre de places disponibles : 12\nCoût : 40 $\n\nInscription : cliquez ici\n\nChaque année\, l’UNEQ offre des ateliers de formation en salle sur divers aspects du métier d’écrivain. S’adressant tant aux écrivains en cours de carrière qu’à ceux de la relève\, les ateliers sont ouverts aux membres et aux non-membres. \nPour en savoir plus sur nos formations\, cliquez ici. \nDes suggestions pour vos besoins en formation continue ? Écrivez à Geneviève Lauzon\, directrice des services aux membres de l’UNEQ : g.lauzon@uneq.qc.ca.
URL:https://www.uneq.qc.ca/evenement/formation-autopromotion-presence-web/
LOCATION:Maison des écrivains\, 3492\, avenue Laval\, Montréal\, Québec\, H2X 3C8 \, Canada
CATEGORIES:À la Maison des écrivains,Ateliers de formation de l'UNEQ
ATTACH;FMTTYPE=image/jpeg:https://www.uneq.qc.ca/wp-content/uploads/2019/10/pexels-photo-reseauxsociaux.jpeg
ORGANIZER;CN="Union des %C3%A9crivaines et des %C3%A9crivains qu%C3%A9b%C3%A9cois":MAILTO:ecrivez@uneq.qc.ca
END:VEVENT
END:VCALENDAR