BEGIN:VCALENDAR
VERSION:2.0
PRODID:-//UNEQ - ECPv6.15.18//NONSGML v1.0//EN
CALSCALE:GREGORIAN
METHOD:PUBLISH
X-WR-CALNAME:UNEQ
X-ORIGINAL-URL:https://www.uneq.qc.ca
X-WR-CALDESC:Évènements pour UNEQ
REFRESH-INTERVAL;VALUE=DURATION:PT1H
X-Robots-Tag:noindex
X-PUBLISHED-TTL:PT1H
BEGIN:VTIMEZONE
TZID:America/Toronto
BEGIN:DAYLIGHT
TZOFFSETFROM:-0500
TZOFFSETTO:-0400
TZNAME:EDT
DTSTART:20190310T070000
END:DAYLIGHT
BEGIN:STANDARD
TZOFFSETFROM:-0400
TZOFFSETTO:-0500
TZNAME:EST
DTSTART:20191103T060000
END:STANDARD
BEGIN:DAYLIGHT
TZOFFSETFROM:-0500
TZOFFSETTO:-0400
TZNAME:EDT
DTSTART:20200308T070000
END:DAYLIGHT
BEGIN:STANDARD
TZOFFSETFROM:-0400
TZOFFSETTO:-0500
TZNAME:EST
DTSTART:20201101T060000
END:STANDARD
BEGIN:DAYLIGHT
TZOFFSETFROM:-0500
TZOFFSETTO:-0400
TZNAME:EDT
DTSTART:20210314T070000
END:DAYLIGHT
BEGIN:STANDARD
TZOFFSETFROM:-0400
TZOFFSETTO:-0500
TZNAME:EST
DTSTART:20211107T060000
END:STANDARD
END:VTIMEZONE
BEGIN:VEVENT
DTSTART;TZID=America/Toronto:20200207T130000
DTEND;TZID=America/Toronto:20200207T170000
DTSTAMP:20260420T181929
CREATED:20191211T162625Z
LAST-MODIFIED:20210409T195520Z
UID:18728-1581080400-1581094800@www.uneq.qc.ca
SUMMARY:Formation — Diversification des revenus pour écrivains
DESCRIPTION:L’objectif premier de l’atelier est de faire connaître aux participants les autres sources de revenus qui peuvent être générés dans le cadre du métier d’écrivain\, au-delà des ventes de leurs livres.\nOffert sous forme de speed-meeting\, dix stations seront occupées par des intervenants provenant de divers organismes ou présentant une expérience de revenus liés aux activités d’écriture : animatrice d’atelier\, réviseure\, agent du Conseil des arts et des lettres du Québec\, représentant de Copibec\, de la Commission du droit de prêt public\, de l’Association des traducteurs et traductrices littéraires du Canada\, d’un périodique culturel\, etc. Chaque participant aura l’occasion de rencontrer chacun des intervenants\, tour à tour\, pendant des périodes de sept à huit minutes.\n  \n\n\n\n\nORGANISME ou SERVICE\nREPRÉSENTÉ(E) PAR :\n\n\nUNEQ\nGeneviève Lauzon\, directrice des relations professionnelles et services aux écrivains\n\n\nCopibec\nSimon Éthier\, agent — Services auteurs et aux collaborateurs pigistes\n\n\nConseil des arts et des lettres du Québec\nGuillaume Thériault\, chargé de programme\, théâtre et littérature\, Direction du soutien aux artistes\, aux communautés et à l’action régionale\n\n\nAssociation des traducteurs et traductrices littéraires du Canada\nBenoit Léger\, vice-président (Québec)\n\n\nRéviseurs Québec\, section de Réviseurs Canada\nSylvie Collin\, présidente\n\n\nAtelier 10\nNicolas Langelier\, fondateur et directeur\n\n\nAssociation des journalistes indépendants du Québec\nAndré Lavoie\, journaliste indépendant\n\n\nCommission du droit de prêt public\nPeter Schneider\, secrétaire général\n\n\nAnimation d’ateliers\, révision\, mentorat\nChristiane Duchesne\, écrivaine\n\n\nRédaction professionnelle\nMathieu Boutin\, fondateur\, inicio : rédaction professionnelle et stratégie narrative\n\n\n\n  \nOù\, quand ?\n\nLieu : Maison des écrivains (3492\, avenue Laval\, Montréal\, H2X 3C8)\nDate et durée : vendredi 7 février 2020 de 13 h à 17 h\nNombre de places disponibles : 10\nCoût : 40 $\n\n⇒ Inscription : veuillez noter que cet atelier est complet\n\nChaque année\, l’UNEQ offre des ateliers de formation en salle sur divers aspects du métier d’écrivain. S’adressant tant aux écrivains en cours de carrière qu’à ceux de la relève\, les ateliers sont ouverts aux membres et aux non-membres. \nPour en savoir plus sur nos formations\, cliquez ici. \nDes suggestions pour vos besoins en formation continue ? Écrivez à Geneviève Lauzon\, directrice des services aux membres de l’UNEQ : g.lauzon@uneq.qc.ca.
URL:https://www.uneq.qc.ca/evenement/formation-diversification-revenus-ecrivains-2020/
LOCATION:Maison des écrivains\, 3492\, avenue Laval\, Montréal\, Québec\, H2X 3C8 \, Canada
CATEGORIES:À la Maison des écrivains,Ateliers de formation de l'UNEQ
ATTACH;FMTTYPE=image/jpeg:https://www.uneq.qc.ca/wp-content/uploads/2019/01/Diversification-des-revenus.jpg
ORGANIZER;CN="Union des %C3%A9crivaines et des %C3%A9crivains qu%C3%A9b%C3%A9cois":MAILTO:ecrivez@uneq.qc.ca
END:VEVENT
BEGIN:VEVENT
DTSTART;TZID=America/Toronto:20200208T090000
DTEND;TZID=America/Toronto:20200208T170000
DTSTAMP:20260420T181929
CREATED:20191211T194908Z
LAST-MODIFIED:20210409T200300Z
UID:18741-1581152400-1581181200@www.uneq.qc.ca
SUMMARY:Formation — Droits d’auteur et statuts de l’artiste
DESCRIPTION:D’une durée de sept heures\, l’atelier présente les principales lois qui encadrent le travail des créateurs. Les formatrices expliqueront comment ces législations s’appliquent dans la pratique artistique\, notamment dans les contrats avec les producteurs ou les diffuseurs.\nObjectifs de la formation : \n\nComprendre les lois (sur le statut professionnel de l’artiste et la Loi sur le droit d’auteur) qui régissent la pratique artistique au Québec et au Canada.\nExposer et partager les problèmes qu’un artiste ou qu’un auteur peut rencontrer.\nDévelopper des réflexes pour négocier efficacement ses contrats (commande et droits d’auteur).\nDécouvrir les ressources utiles à la négociation (associations\, syndicats…).\n\nFormatrices\nCombinant sa passion pour les arts de la scène et le droit\, Me Sophie Préfontaine a orienté sa pratique dans le domaine de la culture et des communications en matière de droits d’auteur\, contrats\, relations de travail ainsi qu’en gestion et en gouvernance d’organismes à vocation culturelle. En plus de sa pratique\, Me Préfontaine dispense des formations et poursuit des études de cycles supérieurs en droit des nouvelles technologies de l’information. Elle est l’auteure de l’ouvrage Le testament artistique. L’art de tirer sa révérence (Fondation Jean-Pierre Perreault). \nMarie-Louise Nadeau\, directrice de la Société québécoise des auteurs dramatiques (SoQAD). En plus de 15 ans\, elle a négocié pour des auteurs nombre de contrats de licence et de commande pour le théâtre\, l’édition\, le cinéma et la télévision au Québec\, au Canada et à l’étranger. Elle intervient dans divers dossiers politiques où elle représente les auteurs et son expertise est sollicitée tant par les producteurs que par les artistes. \nOù\, quand ?\n\nLieu : Maison des écrivains (3492\, avenue Laval\, Montréal\, H2X 3C8)\nDate et durée : samedi 8 février 2020\, de 9 h à 17 h\nNombre de places disponibles : 12\nCoût : 40 $\n\n⇒ Inscription : cliquez ici\n\nChaque année\, l’UNEQ offre des ateliers de formation en salle sur divers aspects du métier d’écrivain. S’adressant tant aux écrivains en cours de carrière qu’à ceux de la relève\, les ateliers sont ouverts aux membres et aux non-membres. \nPour en savoir plus sur nos formations\, cliquez ici. \nDes suggestions pour vos besoins en formation continue ? Écrivez à Geneviève Lauzon\, directrice des services aux membres de l’UNEQ : g.lauzon@uneq.qc.ca.
URL:https://www.uneq.qc.ca/evenement/formation-droits-statuts-artiste/
LOCATION:Maison des écrivains\, 3492\, avenue Laval\, Montréal\, Québec\, H2X 3C8 \, Canada
CATEGORIES:À la Maison des écrivains,Ateliers de formation de l'UNEQ
ATTACH;FMTTYPE=image/png:https://www.uneq.qc.ca/wp-content/uploads/2019/01/Copyright-symbole-2.png
ORGANIZER;CN="Union des %C3%A9crivaines et des %C3%A9crivains qu%C3%A9b%C3%A9cois":MAILTO:ecrivez@uneq.qc.ca
END:VEVENT
BEGIN:VEVENT
DTSTART;TZID=America/Toronto:20200215T130000
DTEND;TZID=America/Toronto:20200215T170000
DTSTAMP:20260420T181929
CREATED:20191211T193650Z
LAST-MODIFIED:20210409T195919Z
UID:18738-1581771600-1581786000@www.uneq.qc.ca
SUMMARY:Formation — Le testament de l’artiste ou de l’écrivain
DESCRIPTION:Cet atelier\, offert par une avocate spécialisée\, se déroule sur une période de quatre heures et s’articule à la fois comme un exposé théorique sur les principaux éléments à considérer et comme un échange où les participants seront appelés à répondre à des mises en situations particulières.\nObjectifs de la formation : \n\nConnaître les exigences de la Loi sur le droit d’auteur en ce qui a trait à la succession testamentaire des œuvres artistiques et littéraires.\nDéterminer les éléments à prévoir et à planifier dans son testament en regard de ses œuvres.\nCibler les erreurs et les imprécisions à éviter\, qui pourraient nuire à son héritage artistique.\nIdentifier les ressources disponibles pour bien planifier sa succession.\n\nFormatrice\nCombinant sa passion pour les arts de la scène et le droit\, Me Sophie Préfontaine a orienté sa pratique dans le domaine de la culture et des communications en matière de droits d’auteur\, contrats\, relations de travail ainsi qu’en gestion et en gouvernance d’organismes à vocation culturelle. En plus de sa pratique\, Me Préfontaine dispense des formations et poursuit des études de cycles supérieurs en droit des nouvelles technologies de l’information. Elle est l’auteure de l’ouvrage Le testament artistique. L’art de tirer sa révérence (Fondation Jean-Pierre Perreault). \nOù\, quand ?\n\nLieu : Maison des écrivains (3492\, avenue Laval\, Montréal\, H2X 3C8)\nDate et durée : samedi 15 février 2020\, de 13 h à 17 h\nNombre de places disponibles : 12\nCoût : 40 $\n\n⇒ Inscription : cliquez ici\n\nChaque année\, l’UNEQ offre des ateliers de formation en salle sur divers aspects du métier d’écrivain. S’adressant tant aux écrivains en cours de carrière qu’à ceux de la relève\, les ateliers sont ouverts aux membres et aux non-membres. \nPour en savoir plus sur nos formations\, cliquez ici. \nDes suggestions pour vos besoins en formation continue ? Écrivez à Geneviève Lauzon\, directrice des services aux membres de l’UNEQ : g.lauzon@uneq.qc.ca.
URL:https://www.uneq.qc.ca/evenement/formation-testament-artiste-ecrivain/
LOCATION:Maison des écrivains\, 3492\, avenue Laval\, Montréal\, Québec\, H2X 3C8 \, Canada
CATEGORIES:À la Maison des écrivains,Ateliers de formation de l'UNEQ
ATTACH;FMTTYPE=image/jpeg:https://www.uneq.qc.ca/wp-content/uploads/2019/12/testament.jpg
ORGANIZER;CN="Union des %C3%A9crivaines et des %C3%A9crivains qu%C3%A9b%C3%A9cois":MAILTO:ecrivez@uneq.qc.ca
END:VEVENT
BEGIN:VEVENT
DTSTART;TZID=America/Toronto:20200222T123000
DTEND;TZID=America/Toronto:20200222T153000
DTSTAMP:20260420T181929
CREATED:20200203T204115Z
LAST-MODIFIED:20200203T204239Z
UID:19226-1582374600-1582385400@www.uneq.qc.ca
SUMMARY:Yoga + Écriture atelier #2 : Nourrir l'espace pour créer
DESCRIPTION:Un atelier de yoga et d’écriture\, à la Maison des écrivains\, pour se libérer de toute pression associée à la créativité.\n(L’ensemble de l’atelier sera un peu différent du premier atelier offert au Studio Bhavana le 25 janvier dernier.) \nOuvert à toutes et à tous. \n⇒ Tous les détails sur l’événement Facebook — cliquez ici \n\nTarifs (taxes incluses) \n\n45 $ pour les inscriptions par virement Interac jusqu’à la veille de l’atelier\, donc jusqu’au 21 février 2020\, à alexsandrinel@gmail.com ou ldepeslouan@gmail.com\n55 $ sur place\, le 22 février\, Interac ou espèces\n\n12 places. \n\nMatériel requis : stylo et tapis de yoga. \nMatériel offert : papier\, zine et matériel créatif. \nChaque participant(e) repartira avec le kit surprise « nourrir l’espace pour créer ». \n\nAlexandrine Lebeau est professeure de yoga et de mouvement inspiré de la sphère somatique et organique. \nLucile de Pesloüan est autrice (Pourquoi les filles ont mal au ventre ?\, J’ai mal et pourtant\, ça ne se voit pas…\, Les histoires de Shushanna Bikini London.) Elle donne régulièrement des ateliers d’écriture et des ateliers de sensibilisation au féminisme.
URL:https://www.uneq.qc.ca/evenement/yoga-ecriture-atelier-2/
LOCATION:Maison des écrivains\, 3492\, avenue Laval\, Montréal\, Québec\, H2X 3C8 \, Canada
CATEGORIES:À la Maison des écrivains,Autres activités
ATTACH;FMTTYPE=image/jpeg:https://www.uneq.qc.ca/wp-content/uploads/2020/02/yoga.jpg
ORGANIZER;CN="Lucile de Peslo%C3%BCan":MAILTO:ldepeslouan@gmail.com
END:VEVENT
BEGIN:VEVENT
DTSTART;TZID=America/Toronto:20200229T220000
DTEND;TZID=America/Toronto:20200301T010000
DTSTAMP:20260420T181929
CREATED:20200211T221558Z
LAST-MODIFIED:20200219T204550Z
UID:19142-1583013600-1583024400@www.uneq.qc.ca
SUMMARY:Nuit blanche à la Maison des écrivains : la Ligue d’improvisation littéraire en vert\, verre et vers
DESCRIPTION:À l’occasion de la Nuit blanche à Montréal\, célébrée dans le cadre de MONTRÉAL EN LUMIÈRE\, l’Union des écrivaines et des écrivains québécois (UNEQ) invite le public à une performance de la Ligue d’improvisation littéraire en vert\, verre et vers !\nDes écrivaines et des écrivains (Marie-Célie Agnant\, Michel Marc Bouchard\, Jean-Paul Daoust\, Michel Duchesne\, Catherine Lalonde et Audrée Wilhelmy) liront un extrait d’un de leurs ouvrages\, deux comédiennes (Diane Lefrançois\, Marie-Hélène Thibault) et un comédien (Réal Bossé) improviseront la suite pendant qu’un musicien (Yves Morin) les accompagne : un spectacle surprenant\, libre et toujours original ! En jouant avec les homonymes du mot VERT\, s’y mêleront le roman\, la nouvelle et l’essai pour créer un nouvel espace d’expression. \n\nAnimation : Christian Laporte. \nConception et direction artistique : Laurent Dubois. \n\n			\n				\n			\n				\n				Marie-Célie Agnant(photo : Marc Antoine Zouéki)\n				\n			\n				\n			\n				\n				Michel Marc Bouchard(photo : Olivier Clertant)\n				\n			\n				\n			\n				\n				Jean-Paul Daoust\n				\n			\n				\n			\n				\n				Michel Duchesne\n				\n			\n				\n			\n				\n				Catherine Lalonde(photo : Justine Latour)\n				\n			\n				\n			\n				\n				Audrée Wilhelmy(photo : JFPaga)\n				\n			\n				\n			\n				\n				Réal Bossé(photo : Julie Perreault)\n				\n			\n				\n			\n				\n				Diane Lefrançois(photo : Gaëtan Laporte)\n				\n			\n				\n			\n				\n				Marie-Hélène Thibault(photo : Jacinthe Perreault)\n				\n			\n				\n			\n				\n				Yves Morin(photo : Annie Éthier)\n				\n			\n				\n			\n				\n				Christian Laporte(Photo : Isabel Rancier)\n				\n		\n\nOù et quand ?\n \n\nSamedi 29 février 2020\nLa Maison des écrivains\, 3492\, avenue Laval\, H2X 3C8 (station de métro Sherbrooke). Le public y est attendu 30 minutes avant chaque représentation. Premier arrivé\, premier servi.\nLa première représentation se déroulera de 22 h à 23 h\, avec Michel Marc Bouchard\, Jean-Paul Daoust et Catherine Lalonde. (Le public devra ensuite quitter la Maison des écrivains\, qui fermera ses portes jusqu’à 23 h 30.)\nLa deuxième représentation\, avec Marie-Célie Agnant\, Michel Duchesne et Audrée Wilhelmy\, aura lieu de minuit à 1 h.\n\n\nLes écrivaines et des écrivains\nPoète\, nouvelliste\, romancière\, Marie-Célie Agnant est notamment l’auteure du roman Le Livre d’Emma (du Remue-ménage\, 2001). Elle publie également des livres jeunesse. Traductrice et interprète\, elle a traduit l’essai Partition pour femmes et orchestre de Maria Noriega Rachwall (du Remue-ménage\, 2017). Le Prix Alain-Grandbois de l’Académie des Lettres du Québec lui a été décerné en 2017 pour Femmes des Terres brûlées (de La Pleine Lune). \nMichel Marc Bouchard est auteur dramatique\, scénariste\, librettiste et maître d’œuvres d’expositions. On lui doit une vingtaine de pièces de théâtre dont\, parmi les plus récentes\, La Divine Illusion et La nuit où Laurier Gaudreault s’est réveillé. Plusieurs de ses œuvres ont été adaptées pour le cinéma\, ont été traduites dans une quinzaine de langues et ont été jouées dans les plus importants théâtres québécois\, canadiens et étrangers ainsi que dans les festivals internationaux les plus reconnus. Récipiendaire entre autres du Prix du Centre national des arts\, du Primo Arte Candoni (Italie) et du prix de la SACD (Paris)\, il a été reçu Officier de l’Ordre du Canada\, Chevalier de l’Ordre du Québec\, Compagnon de l’Ordre des arts et des lettres du Québec et membre de l’Académie des lettres du Québec. \n \nJean-Paul Daoust a publié plus d’une quarantaine d’ouvrages de poésie\, deux romans et un recueil de récits. Il a été lauréat du prix du Gouverneur général (1990) pour Les cendres bleues\, traduit en plusieurs langues\, et du Grand prix Québecor du Festival international de la poésie de Trois-Rivières (2009) pour Le vitrail brisé. Il est poète en résidence depuis l’automne 2011 à la radio de Radio-Canada\, à l’émission Plus on est de fous\, plus on lit ! \n \nMichel Duchesne est notamment l’auteur de L’écrivain public\, roman inspiré de sa propre expérience\, devenu série web cumulant les honneurs au Québec et à l’international. Il a aussi été réalisateur d’émissions socio-culturelles à Radio-Canada\, entraîneur intronisé à la Ligue nationale d’improvisation (LNI) et auteur de plusieurs pièces de théâtre. \n \nCatherine Lalonde est poète (La dévoration des fées\, Le Quartanier\, 2018 ; Cassandre\, 2005\, et Corps étranger\, 2008\, prix Émile-Nelligan\, tous deux chez Québec Amérique) et journaliste au quotidien indépendant Le Devoir. Formée en danse contemporaine\, elle explore aussi les liens entre corps\, mouvement\, écriture et parole. \n \nLe premier roman d’Audrée Wilhelmy\, Oss (Leméac\, 2011) a été finaliste aux prix du gouverneur général du Canada. Son deuxième roman\, Les Sangs\, a été publié chez Leméac en 2013 et chez Grasset en 2015 ; finaliste aux prix des libraires du Québec\, pour le prix France-Québec\, pour le prix Marie-Claire du roman féminin et pour le prix des lecteurs de l’hebdo\, il a remporté ex æquo le prix Sade 2015.\n  \nLes comédiennes et le comédien\n \nDiane Lefrançois\, vétérante de 20 saisons à la LNI\, a remporté la Coupe Charade en 2005 et 2009. Elle a participé au Grand Rire de Québec\, au National d’impro et aux Grands duels de la LNI sur les ondes de Télé-Québec. Au printemps 2015\, elle a fait partie de l’équipe qui a représenté le Québec lors de la Coupe Mondiale d’improvisation\, où elle a été élue joueuse du tournoi. Parallèlement à sa vie sur scène\, Diane Lefrançois mène une carrière de technologue en architecture. \n \nEn 25 ans de carrière\, Marie-Hélène Thibault s’est imposée à la télévision grâce aux séries Catherine\, Providence\, Les étoiles filantes\, Le gentleman et Aveux. Elle a participé à une trentaine de productions théâtrales\, dont Tu te souviendras de moi\, La société des loisirs\, Coma Unplugged\, Le journal d’Anne Frank et l’adaptation du film Le déclin de l’empire américain. Elle a également touché au cinéma\, à l’improvisation (LNI\, les Grands duels) et à l’écriture (C’est devenu gros et Cambriolages\, pièces écrites avec François Archambault). \n \nDepuis la fin des années 1980\, Réal Bossé s’illustre tant sur les scènes de théâtre qu’au cinéma et à la télévision. Repêché par la LNI en 1995\, il a participé dès sa première saison au Match des étoiles et est devenu le récipiendaire des trophées de la recrue de l’année et du joueur le plus étoilé. Depuis 2000\, il joue dans le cadre du National d’impro Juste pour rire. Au théâtre\, il a participé à de nombreuses créations et signé des mises en scène. Il est co-fondateur de la compagnie de théâtre L’ange à deux têtes.\n  \nLe musicien\n \nYves Morin enseigne au Conservatoire d’art dramatique de Montréal depuis 1994. Il a été arbitre en chef de la Ligue nationale d’improvisation de 1998 à 2006. Il a collaboré comme compositeur\, concepteur sonore\, traducteur\, metteur en scène ou comédien à plus d’une centaine de spectacles. Il a également signé des traductions de pièces de théâtre et de comédies musicales.
URL:https://www.uneq.qc.ca/evenement/nuit-blanche-maison-des-ecrivains-2020/
LOCATION:Maison des écrivains\, 3492\, avenue Laval\, Montréal\, Québec\, H2X 3C8 \, Canada
CATEGORIES:À la Maison des écrivains,Ligue d'improvisation littéraire,Nuit blanche à Montréal
ATTACH;FMTTYPE=image/jpeg:https://www.uneq.qc.ca/wp-content/uploads/2020/01/MEL20_web_300x250_Generique_NB_fr.jpg
ORGANIZER;CN="Union des %C3%A9crivaines et des %C3%A9crivains qu%C3%A9b%C3%A9cois":MAILTO:ecrivez@uneq.qc.ca
END:VEVENT
END:VCALENDAR