BEGIN:VCALENDAR
VERSION:2.0
PRODID:-//UNEQ - ECPv6.15.18//NONSGML v1.0//EN
CALSCALE:GREGORIAN
METHOD:PUBLISH
X-WR-CALNAME:UNEQ
X-ORIGINAL-URL:https://www.uneq.qc.ca
X-WR-CALDESC:Évènements pour UNEQ
REFRESH-INTERVAL;VALUE=DURATION:PT1H
X-Robots-Tag:noindex
X-PUBLISHED-TTL:PT1H
BEGIN:VTIMEZONE
TZID:America/Toronto
BEGIN:DAYLIGHT
TZOFFSETFROM:-0500
TZOFFSETTO:-0400
TZNAME:EDT
DTSTART:20160313T070000
END:DAYLIGHT
BEGIN:STANDARD
TZOFFSETFROM:-0400
TZOFFSETTO:-0500
TZNAME:EST
DTSTART:20161106T060000
END:STANDARD
BEGIN:DAYLIGHT
TZOFFSETFROM:-0500
TZOFFSETTO:-0400
TZNAME:EDT
DTSTART:20170312T070000
END:DAYLIGHT
BEGIN:STANDARD
TZOFFSETFROM:-0400
TZOFFSETTO:-0500
TZNAME:EST
DTSTART:20171105T060000
END:STANDARD
BEGIN:DAYLIGHT
TZOFFSETFROM:-0500
TZOFFSETTO:-0400
TZNAME:EDT
DTSTART:20180311T070000
END:DAYLIGHT
BEGIN:STANDARD
TZOFFSETFROM:-0400
TZOFFSETTO:-0500
TZNAME:EST
DTSTART:20181104T060000
END:STANDARD
END:VTIMEZONE
BEGIN:VEVENT
DTSTART;TZID=America/Toronto:20170922T090000
DTEND;TZID=America/Toronto:20171124T170000
DTSTAMP:20260419T162338
CREATED:20170906T150110Z
LAST-MODIFIED:20180716T185950Z
UID:7452-1506070800-1511542800@www.uneq.qc.ca
SUMMARY:Exposition : Encre noire
DESCRIPTION:En rendant hommage à Serge Legagneur\, l’exposition Encre noire rend compte de l’importance de tous ces écrivains montréalais qui\, comme lui\, et qu’ils soient nés en Haïti ou ayant grandi au Québec\, ont produit une œuvre exemplaire qui transcende les frontières et les barrières culturelles\, tout en contribuant à l’enrichissement de la langue française et à l’épanouissement de la culture québécoise.\n \nTout récemment décédait Serge Legagneur. Né le 10 janvier 1937 à Jérémie\, en Haïti\, il passe son enfance dans cette ville côtière\, dite « la Cité des Poètes »\, qui marquera sa poésie. Après ses études secondaires\, il participe activement à la vie culturelle. Avec ses amis écrivains Davertige\, Roland Morisseau\, Anthony Phelps\, René Philoctète\, il fonde le groupe Haïti Littéraire. Devant la menace et l’horreur de la dictature de Duvalier\, Serge Legagneur quitte Haïti et s’installe à Montréal en 1965. Il y retrouvera Émile Ollivier et Anthony Phelps\, arrivés l’année précédente. Après plusieurs décennies de production littéraire\, il déclare avec conviction en 1990 qu’il n’est plus poète et qu’il change de métier. Il affirme alors avoir déjà dit et écrit tout ce qu’il devait dire et écrire. \n• • • \nConception de l’exposition : Frantz Voltaire\nTextes : Thomas C. Spear\nConception graphique : Manuel Salgado \nL’exposition Encre noire bénéficie du soutien d’île en île\, du Conseil des Arts du Canada\, de Thomas C. Spear et du Festival international de la littérature (FIL). \nUne présentation du Centre International de Documentation et d’Information Haïtienne\, Caribéenne et Afro-canadienne (CIDIHCA)\, en collaboration avec l’Union des écrivaines et des écrivains québécois (UNEQ). \nVernissage : lundi 25 septembre à 17 h.
URL:https://www.uneq.qc.ca/evenement/exposition-encre-noire/
LOCATION:Maison des écrivains\, 3492\, avenue Laval\, Montréal\, Québec\, H2X 3C8 \, Canada
CATEGORIES:À la Maison des écrivains,Minigalerie
ATTACH;FMTTYPE=image/jpeg:https://www.uneq.qc.ca/wp-content/uploads/2017/09/Davertige_Legagneur_Phelps_et_Morisseau_chez_Anthony_1978.jpg
ORGANIZER;CN="Festival international de la litt%C3%A9rature (FIL)":MAILTO:info@festival-fil.qc.ca
END:VEVENT
BEGIN:VEVENT
DTSTART;TZID=America/Toronto:20171011T173000
DTEND;TZID=America/Toronto:20171011T193000
DTSTAMP:20260419T162338
CREATED:20171010T202853Z
LAST-MODIFIED:20180716T185723Z
UID:7931-1507743000-1507750200@www.uneq.qc.ca
SUMMARY:Lancement d'Estuaire no 170\, «Forêts»
DESCRIPTION:Qu’est-ce qu’une forêt ? Un territoire\, une idée. Un souvenir ou une invention. Un rêve même. C’est un lieu où on entre parfois sans savoir comment on va en ressortir. La forêt s’ouvre et nos repères s’éclipsent peu à peu. On met un pied devant l’autre et la route ne va plus de soi.\nIl y a peut-être un sentier\, peut-être pas. \nOn y trouve des arbres\, des branches\, des feuilles. Possiblement le bruit d’une rivière au loin\, ou d’un animal qui s’esquive ou nous guette. La forêt est dense\, chargée de vie et de symboles. Lieu foisonnant et multiple\, tout à la fois de perdition et d’enquête\, d’errance et de déchiffrement\, la forêt représente cet endroit où on peut tour à tour se perdre et se retrouver. \nEstuaire\, pour son cent soixante-dixième numéro\, a décidé d’inviter des poètes à s’aventurer en forêt\, afin qu’ils puissent nous la raconter chacun à leur façon. Ainsi\, les poèmes que donne à lire cette livraison l’investissent sous toutes ses formes : ses signes\, ses éléments\, sa tranquillité\, son étrangeté\, sa faune\, sa mythologie… Car après tout\, si l’imaginaire de la forêt est aussi riche et présent dans l’histoire de notre poésie\, c’est peut-être parce que le poème sait entendre la voix des arbres\, des feuilles et des fleurs.
URL:https://www.uneq.qc.ca/evenement/lancement-de-forets-estuaire-no-170/
LOCATION:Maison des écrivains\, 3492\, avenue Laval\, Montréal\, Québec\, H2X 3C8 \, Canada
CATEGORIES:À la Maison des écrivains,Autres activités
ATTACH;FMTTYPE=image/jpeg:https://www.uneq.qc.ca/wp-content/uploads/2017/10/Estuaire-1-e1507667309601.jpg
ORGANIZER;CN="Revue Estuaire":MAILTO:redaction@revue-estuaire.com
END:VEVENT
END:VCALENDAR