BEGIN:VCALENDAR
VERSION:2.0
PRODID:-//UNEQ - ECPv6.15.18//NONSGML v1.0//EN
CALSCALE:GREGORIAN
METHOD:PUBLISH
X-ORIGINAL-URL:https://www.uneq.qc.ca
X-WR-CALDESC:Évènements pour UNEQ
REFRESH-INTERVAL;VALUE=DURATION:PT1H
X-Robots-Tag:noindex
X-PUBLISHED-TTL:PT1H
BEGIN:VTIMEZONE
TZID:America/Toronto
BEGIN:DAYLIGHT
TZOFFSETFROM:-0500
TZOFFSETTO:-0400
TZNAME:EDT
DTSTART:20180311T070000
END:DAYLIGHT
BEGIN:STANDARD
TZOFFSETFROM:-0400
TZOFFSETTO:-0500
TZNAME:EST
DTSTART:20181104T060000
END:STANDARD
BEGIN:DAYLIGHT
TZOFFSETFROM:-0500
TZOFFSETTO:-0400
TZNAME:EDT
DTSTART:20190310T070000
END:DAYLIGHT
BEGIN:STANDARD
TZOFFSETFROM:-0400
TZOFFSETTO:-0500
TZNAME:EST
DTSTART:20191103T060000
END:STANDARD
BEGIN:DAYLIGHT
TZOFFSETFROM:-0500
TZOFFSETTO:-0400
TZNAME:EDT
DTSTART:20200308T070000
END:DAYLIGHT
BEGIN:STANDARD
TZOFFSETFROM:-0400
TZOFFSETTO:-0500
TZNAME:EST
DTSTART:20201101T060000
END:STANDARD
END:VTIMEZONE
BEGIN:VEVENT
DTSTART;TZID=America/Toronto:20190914T100000
DTEND;TZID=America/Toronto:20190914T150000
DTSTAMP:20260419T200034
CREATED:20190819T150524Z
LAST-MODIFIED:20190819T202720Z
UID:16896-1568455200-1568473200@www.uneq.qc.ca
SUMMARY:Atelier d’écriture débridée\, offert par Marie Clark
DESCRIPTION:Des histoires que vous ignorez dorment en vous et n’attendent que l’occasion de naitre! Venez découvrir avec l’écriture débridée une manière à la fois simple et éprouvée de faire jaillir votre imaginaire et de lui permettre de s’exprimer en toute liberté.\nDétail de la journée \n\nPrésentations\nIntroduction à une démarche d’écriture\nIntroduction à l’écriture débridée\nExercices d’écriture\nAutres manières d’explorer votre imaginaire\nConclusion : poursuivre par soi-même\n\nApportez votre lunch ! Nous n’arrêtons qu’une heure pour dîner. Nous pourrons continuer d’échanger en mangeant.\n \nPour vous inscrire \n\nhttp://marieclark.ca/calendrier/\nhttps://www.facebook.com/events/1900930570010260/\n\nPrix : 150 $ par personne. \nAu plaisir de plonger avec vous dans l’écriture !
URL:https://www.uneq.qc.ca/evenement/atelier-decriture-debridee-offert-par-marie-clark-2/
LOCATION:Maison des écrivains\, 3492\, avenue Laval\, Montréal\, Québec\, H2X 3C8 \, Canada
CATEGORIES:À la Maison des écrivains,Autres activités
ATTACH;FMTTYPE=image/jpeg:https://www.uneq.qc.ca/wp-content/uploads/2019/08/MarieClark.jpg
END:VEVENT
END:VCALENDAR