BEGIN:VCALENDAR
VERSION:2.0
PRODID:-//UNEQ - ECPv6.15.18//NONSGML v1.0//EN
CALSCALE:GREGORIAN
METHOD:PUBLISH
X-WR-CALNAME:UNEQ
X-ORIGINAL-URL:https://www.uneq.qc.ca
X-WR-CALDESC:Évènements pour UNEQ
REFRESH-INTERVAL;VALUE=DURATION:PT1H
X-Robots-Tag:noindex
X-PUBLISHED-TTL:PT1H
BEGIN:VTIMEZONE
TZID:America/Toronto
BEGIN:DAYLIGHT
TZOFFSETFROM:-0500
TZOFFSETTO:-0400
TZNAME:EDT
DTSTART:20180311T070000
END:DAYLIGHT
BEGIN:STANDARD
TZOFFSETFROM:-0400
TZOFFSETTO:-0500
TZNAME:EST
DTSTART:20181104T060000
END:STANDARD
BEGIN:DAYLIGHT
TZOFFSETFROM:-0500
TZOFFSETTO:-0400
TZNAME:EDT
DTSTART:20190310T070000
END:DAYLIGHT
BEGIN:STANDARD
TZOFFSETFROM:-0400
TZOFFSETTO:-0500
TZNAME:EST
DTSTART:20191103T060000
END:STANDARD
BEGIN:DAYLIGHT
TZOFFSETFROM:-0500
TZOFFSETTO:-0400
TZNAME:EDT
DTSTART:20200308T070000
END:DAYLIGHT
BEGIN:STANDARD
TZOFFSETFROM:-0400
TZOFFSETTO:-0500
TZNAME:EST
DTSTART:20201101T060000
END:STANDARD
END:VTIMEZONE
BEGIN:VEVENT
DTSTART;TZID=America/Toronto:20190917T180000
DTEND;TZID=America/Toronto:20190917T200000
DTSTAMP:20260419T195853
CREATED:20190827T143628Z
LAST-MODIFIED:20190827T144311Z
UID:17019-1568743200-1568750400@www.uneq.qc.ca
SUMMARY:Prix des Horizons imaginaires — Soirée de la rentrée
DESCRIPTION:La Fondation Lire pour réussir et l’équipe du Prix des Horizons imaginaires sont heureuses de vous inviter à venir célébrer le lancement officiel de la quatrième édition de notre prix intercollégial à jury étudiant dédié à la lecture et aux littératures de l’imaginaire d’ici !\nLa soirée permettra de présenter les trois livres finalistes dévoilés en mai dernier au Congrès Boréal\, à souligner l’entente qui lie maintenant la Fondation Lire pour réussir au Marianopolis College et à faire connaître les grands axes de nos activités culturelles et pédagogiques. \nPour marquer l’événement\, nous organisons une table ronde sur la présence des littératures de l’imaginaire au Québec et sur leur place dans l’enseignement. Animée par Mathieu Lauzon-Dicso (coordonnateur du prix et enseignant de français au Collège Marianopolis)\, la discussion réunira Olivier Hamel (bibliothécaire et animateur culturel\, Commission scolaire Marguerite-Bourgeoys)\, Geneviève Pigeon (directrice des éditions de L’Instant même et chargée de cours\, Département de sciences des religions de l’Université du Québec à Montréal) et Joanne Rochette (autrice et enseignante d’histoire\, Collège de Rosemont). \nLe 17 septembre 2019 \n\n18 h : accueil\n18 h 30 : présentations du prix\n18 h 50 : table ronde sur l’imaginaire et l’enseignement\nDes bouchées et des rafraîchissements seront servis.\nLa soirée est ouverte à toutes et à tous. L’entrée est gratuite.\n\nL’activité se tiendra à la Maison des écrivains (3492\, avenue Laval\, Montréal)\, à quelques minutes de la station de métro Sherbrooke. \n(Comme l’espace est situé dans un immeuble historique\, nous vous invitons à nous contacter directement pour toute question concernant son accessibilité.) \nÀ propos du Prix des Horizons imaginaires\nCréé par un enseignant de français du Collège Marianopolis et maintenant administré par la Fondation Lire pour réussir\, le Prix des Horizons imaginaires a pour objectif de redonner le plaisir de lire aux collégien.ne.s grâce aux littératures de l’imaginaire (science-fiction\, fantastique\, réalisme magique\, etc.). \nLes inscriptions pour les activités de la quatrième édition sont ouvertes jusqu’au 30 septembre 2019. \n⇒  Pour plus d’information : horizonsimaginaires.ca et horizons.imaginaires@gmail.com. \nle Prix des Horizons imaginaires remercie ses partenaires\, soit son commanditaire officiel\, la Librairie Saga Bookstore\, ainsi que le Salon du livre de Montréal\, le Congrès Boréal\, la revue Les libraires\, l’Union des écrivaines et des écrivains québécois (UNEQ)\, l’Association nationale des éditeurs de livres (ANEL)\, le Rebicq\, la corporation Passeport pour l’imaginaire (Prix jeunesse des univers parallèles)\, la Revue Solaris et la revue Brins d’éternité.
URL:https://www.uneq.qc.ca/evenement/prix-des-horizons-imaginaires/
LOCATION:Maison des écrivains\, 3492\, avenue Laval\, Montréal\, Québec\, H2X 3C8 \, Canada
CATEGORIES:À la Maison des écrivains,Autres activités
ATTACH;FMTTYPE=image/jpeg:https://www.uneq.qc.ca/wp-content/uploads/2019/08/Prix-des-Horizons-imaginaires.jpg
ORGANIZER;CN="Prix des Horizons imaginaires":MAILTO:horizons.imaginaires@gmail.com
END:VEVENT
END:VCALENDAR